View In:
ArcGIS JavaScript
ArcGIS Online Map Viewer
ArcGIS Earth
Service Description: This metadata describes the digital ortho imagery covering the selected area of Hamilton County, IN. This 1"=100' scale imagery is comprised of 4-band (RGBIR) color orthoimagery with a GSD (Ground Sample Distance) of 0.25'. Imagery was collected with a Vexcel UltraCam Eagle (UCEagle) large format aerial sensor and processed with Inpho (Trimble) Photogrammetry software. Imagery is projected in the State Plane Coordinate System Indiana East. Horizontal datum is NAD83 2011. Vertical datum is NAVD88. Units of measure are U.S. Feet.
Name: ImageServices/Hamilton_2022
Description: This metadata describes the digital ortho imagery covering the selected area of Hamilton County, IN. This 1"=100' scale imagery is comprised of 4-band (RGBIR) color orthoimagery with a GSD (Ground Sample Distance) of 0.25'. Imagery was collected with a Vexcel UltraCam Eagle (UCEagle) large format aerial sensor and processed with Inpho (Trimble) Photogrammetry software. Imagery is projected in the State Plane Coordinate System Indiana East. Horizontal datum is NAD83 2011. Vertical datum is NAVD88. Units of measure are U.S. Feet.
Single Fused Map Cache: true
Tile Info:
- Height: 256
- Width: 256
- DPI: 96
-
Levels of Detail: 11
- Format: MIXED
- Compression Quality: 75.0
- LERC Error: NaN
- Origin: X: -1.81198E7
Y: 2.00127E7
- Spatial Reference: 2244
(2965)
LatestVCSWkid(0)
Storage Info:
- Storage Format: esriMapCacheStorageModeCompactV2
- Packet Size: 128
Extent:
XMin: 161250.0001628287
YMin: 1701250.0000273213
XMax: 278750.0001628287
YMax: 1816250.0000273213
Spatial Reference: 2244
(2965)
LatestVCSWkid(0)
Initial Extent:
XMin: 161250.0001628287
YMin: 1701250.0000273213
XMax: 278750.0001628287
YMax: 1816250.0000273213
Spatial Reference: 2244
(2965)
LatestVCSWkid(0)
Full Extent:
XMin: 161250.0001628287
YMin: 1701250.0000273213
XMax: 278750.0001628287
YMax: 1816250.0000273213
Spatial Reference: 2244
(2965)
LatestVCSWkid(0)
Pixel Size X: 0.25
Pixel Size Y: 0.25
Band Count: 3
Pixel Type: U8
RasterFunction Infos: {"rasterFunctionInfos": [{
"name": "None",
"description": "Make a Raster or Raster Dataset into a Function Raster Dataset.",
"help": ""
}]}
Mensuration Capabilities: NONE
Inspection Capabilities:
Has Histograms: false
Has Colormap: false
Has Multi Dimensions : false
Rendering Rule:
Min Scale: 307200
Max Scale: 300
Resampling: false
Copyright Text:
Service Data Type: esriImageServiceDataTypeRGB
Min Values: N/A
Max Values: N/A
Mean Values: N/A
Standard Deviation Values: N/A
Object ID Field: OBJECTID
Fields:
-
OBJECTID
(
type: esriFieldTypeOID, alias: OBJECTID
)
-
Shape
(
type: esriFieldTypeGeometry, alias: Shape
)
-
Name
(
type: esriFieldTypeString, alias: Name, length: 200
)
-
MinPS
(
type: esriFieldTypeDouble, alias: MinPS
)
-
MaxPS
(
type: esriFieldTypeDouble, alias: MaxPS
)
-
LowPS
(
type: esriFieldTypeDouble, alias: LowPS
)
-
HighPS
(
type: esriFieldTypeDouble, alias: HighPS
)
-
Category
(
type: esriFieldTypeInteger, alias: Category
, Coded Values:
[0: Unknown]
, [1: Primary]
, [2: Overview]
, ...6 more...
)
-
Tag
(
type: esriFieldTypeString, alias: Tag, length: 100
)
-
GroupName
(
type: esriFieldTypeString, alias: GroupName, length: 100
)
-
ProductName
(
type: esriFieldTypeString, alias: ProductName, length: 100
)
-
CenterX
(
type: esriFieldTypeDouble, alias: CenterX
)
-
CenterY
(
type: esriFieldTypeDouble, alias: CenterY
)
-
ZOrder
(
type: esriFieldTypeInteger, alias: ZOrder
)
-
Shape_Length
(
type: esriFieldTypeDouble, alias: Shape_Length
)
-
Shape_Area
(
type: esriFieldTypeDouble, alias: Shape_Area
)
Default Mosaic Method: Northwest
Allowed Mosaic Methods: NorthWest,Center,LockRaster,ByAttribute,Nadir,Viewpoint,Seamline,None
SortField:
SortValue: null
Mosaic Operator: First
Default Compression Quality: 75
Default Resampling Method: Bilinear
Max Record Count: 1000
Max Image Height: 4100
Max Image Width: 15000
Max Download Image Count: 20
Max Mosaic Image Count: 50
Allow Raster Function: true
Allow Copy: true
Allow Analysis: true
Allow Compute TiePoints: false
Supports Statistics: true
Supports Advanced Queries: true
Use StandardizedQueries: true
Raster Type Infos:
Name: Raster Dataset
Description: Supports all ArcGIS Raster Datasets
Help:
Has Raster Attribute Table: false
Edit Fields Info: null
Ownership Based AccessControl For Rasters: null
Child Resources:
Info
Statistics
Key Properties
Legend
Raster Function Infos
Supported Operations:
Export Image
Query
Identify
Measure
Compute Histograms
Compute Statistics Histograms
Get Samples
Compute Class Statistics
Query GPS Info
Find Images
Image to Map
Map to Image
Measure from Image
Image to Map Multiray
Query Boundary
Compute Pixel Location
Compute Angles
Validate
Project
EstimateExportTilesSize
ExportTiles