{ "currentVersion": 11.3, "serviceDescription": "
Product: Hamilton County Indiana 2023 Orthophotography. Dataset Description: Hamilton County, IN 2023 Orthophotography project called for the Planning, Acquisition, AeroTriangulation, and orthophotography processing of Imagery data collected at 7cm ground sample distance (GSD). Project Area of Interest (AOI) included the county boundary and extended in all directions for a total area of 485 square miles. Existing LiDAR data supplied by the county was used as ground elevation surface to orthorectify all imagery. The counties existing 1,250ft x 1,250ft sheet tile scheme was used and extended to cover full project area. There is a total of 8,648 butt matching sheet tiles at 3inch, or 0.25', ground sample distance pixel resolution in 4-band GeoTiff file format. Mr. SID Gen-4 formatted files were also created at a 20:1 compression ratio. A single full county composite file was created as well as a composite file for each of the nine townships encompassing the county. Ground conditions: Data collected with leaf off and no snow. All data will be in NAD83(HARN)/NAVD88, GEOID 09, State Plane Indiana East Zone, US Survey Feet. Imagery was acquired on March 30 and April 9, 2023 using a Vexcel Eagle Mark 1 digital sensor at 7cm GSD and delivered in TIFF format with processed ABGPS/IMU data. Imagery was used to generate 3\" Orthophotography. Ground Control: GRW established 31 ground control points which were used to control the 7cm imagery to known ground locations established throughout the project area.<\/span><\/p><\/div><\/div>",
"name": "ImageServices/Hamilton_2023",
"description": " Product: Hamilton County Indiana 2023 Orthophotography. Dataset Description: Hamilton County, IN 2023 Orthophotography project called for the Planning, Acquisition, AeroTriangulation, and orthophotography processing of Imagery data collected at 7cm ground sample distance (GSD). Project Area of Interest (AOI) included the county boundary and extended in all directions for a total area of 485 square miles. Existing LiDAR data supplied by the county was used as ground elevation surface to orthorectify all imagery. The counties existing 1,250ft x 1,250ft sheet tile scheme was used and extended to cover full project area. There is a total of 8,648 butt matching sheet tiles at 3inch, or 0.25', ground sample distance pixel resolution in 4-band GeoTiff file format. Mr. SID Gen-4 formatted files were also created at a 20:1 compression ratio. A single full county composite file was created as well as a composite file for each of the nine townships encompassing the county. Ground conditions: Data collected with leaf off and no snow. All data will be in NAD83(HARN)/NAVD88, GEOID 09, State Plane Indiana East Zone, US Survey Feet. Imagery was acquired on March 30 and April 9, 2023 using a Vexcel Eagle Mark 1 digital sensor at 7cm GSD and delivered in TIFF format with processed ABGPS/IMU data. Imagery was used to generate 3\" Orthophotography. Ground Control: GRW established 31 ground control points which were used to control the 7cm imagery to known ground locations established throughout the project area.<\/span><\/p><\/div><\/div>",
"extent": {
"xmin": 161250.0001628287,
"ymin": 1701250.0000273213,
"xmax": 278750.0001628287,
"ymax": 1816250.0000273213,
"spatialReference": {
"wkid": 2244,
"latestWkid": 2965
}
},
"initialExtent": {
"xmin": 161250.0001628287,
"ymin": 1701250.0000273213,
"xmax": 278750.0001628287,
"ymax": 1816250.0000273213,
"spatialReference": {
"wkid": 2244,
"latestWkid": 2965
}
},
"fullExtent": {
"xmin": 161250.0001628287,
"ymin": 1701250.0000273213,
"xmax": 278750.0001628287,
"ymax": 1816250.0000273213,
"spatialReference": {
"wkid": 2244,
"latestWkid": 2965
}
},
"sortableFields": "MinPS,MaxPS,LowPS,HighPS,CenterX,CenterY,ZOrder,Shape_Length,Shape_Area",
"bandCount": 3,
"pixelType": "U8",
"minValues": [
0,
13,
15
],
"maxValues": [
255,
255,
255
],
"meanValues": [
121.65950599999819,
117.89940399999806,
109.1705160000004
],
"stdvValues": [
36.27059513424017,
31.11680987345267,
29.126962331724144
],
"hasMultidimensions": false,
"pixelSizeX": 0.25,
"pixelSizeY": 0.25,
"meanPixelSize": 0.07620015240030481,
"datasetFormat": "AMD",
"uncompressedSize": 648600000000,
"blockWidth": 2048,
"blockHeight": 256,
"compressionType": "None",
"bandNames": [
"Red",
"Green",
"Blue"
],
"allowCopy": true,
"allowAnalysis": true,
"itemAccess": false,
"inspectionCapabilities": "",
"minPixelSize": 0.26041666666666663,
"maxPixelSize": 266.66666666666663,
"copyrightText": "",
"serviceDataType": "esriImageServiceDataTypeProcessed",
"serviceSourceType": "esriImageServiceSourceTypeMosaicDataset",
"objectIdField": "OBJECTID",
"fields": [
{
"name": "OBJECTID",
"type": "esriFieldTypeOID",
"alias": "OBJECTID",
"domain": null
},
{
"name": "Shape",
"type": "esriFieldTypeGeometry",
"alias": "Shape",
"domain": null
},
{
"name": "Name",
"type": "esriFieldTypeString",
"alias": "Name",
"domain": null,
"length": 200
},
{
"name": "MinPS",
"type": "esriFieldTypeDouble",
"alias": "MinPS",
"domain": null
},
{
"name": "MaxPS",
"type": "esriFieldTypeDouble",
"alias": "MaxPS",
"domain": null
},
{
"name": "LowPS",
"type": "esriFieldTypeDouble",
"alias": "LowPS",
"domain": null
},
{
"name": "HighPS",
"type": "esriFieldTypeDouble",
"alias": "HighPS",
"domain": null
},
{
"name": "Category",
"type": "esriFieldTypeInteger",
"alias": "Category",
"domain": {
"type": "codedValue",
"name": "MosaicCatalogItemCategoryDomain",
"description": "Catalog item categories.",
"codedValues": [
{
"name": "Unknown",
"code": 0
},
{
"name": "Primary",
"code": 1
},
{
"name": "Overview",
"code": 2
},
{
"name": "Unprocessed Overview",
"code": 3
},
{
"name": "Partial Overview",
"code": 4
},
{
"name": "Inactive",
"code": 5
},
{
"name": "Uploaded",
"code": 253
},
{
"name": "Incomplete",
"code": 254
},
{
"name": "Custom",
"code": 255
}
],
"mergePolicy": "esriMPTDefaultValue",
"splitPolicy": "esriSPTDefaultValue"
}
},
{
"name": "Tag",
"type": "esriFieldTypeString",
"alias": "Tag",
"domain": null,
"length": 100
},
{
"name": "GroupName",
"type": "esriFieldTypeString",
"alias": "GroupName",
"domain": null,
"length": 100
},
{
"name": "ProductName",
"type": "esriFieldTypeString",
"alias": "ProductName",
"domain": null,
"length": 100
},
{
"name": "CenterX",
"type": "esriFieldTypeDouble",
"alias": "CenterX",
"domain": null
},
{
"name": "CenterY",
"type": "esriFieldTypeDouble",
"alias": "CenterY",
"domain": null
},
{
"name": "ZOrder",
"type": "esriFieldTypeInteger",
"alias": "ZOrder",
"domain": null
},
{
"name": "Shape_Length",
"type": "esriFieldTypeDouble",
"alias": "Shape_Length",
"domain": null
},
{
"name": "Shape_Area",
"type": "esriFieldTypeDouble",
"alias": "Shape_Area",
"domain": null
}
],
"capabilities": "Catalog,Mensuration,Image,Metadata",
"defaultMosaicMethod": "Northwest",
"allowedMosaicMethods": "NorthWest,Center,LockRaster,ByAttribute,Nadir,Viewpoint,Seamline,None",
"sortField": "",
"sortValue": null,
"sortAscending": true,
"mosaicOperator": "First",
"maxDownloadSizeLimit": 2048,
"defaultCompressionQuality": 75,
"defaultResamplingMethod": "Bilinear",
"maxImageHeight": 4100,
"maxImageWidth": 15000,
"maxRecordCount": 1000,
"maxDownloadImageCount": 20,
"maxMosaicImageCount": 50,
"singleFusedMapCache": true,
"tileInfo": {
"rows": 256,
"cols": 256,
"dpi": 96,
"format": "MIXED",
"compressionQuality": 75,
"origin": {
"x": -18119800,
"y": 20012700
},
"spatialReference": {
"wkid": 2244,
"latestWkid": 2965
},
"lods": [
{
"level": 0,
"resolution": 266.66666666666663,
"scale": 307200
},
{
"level": 1,
"resolution": 133.33333333333331,
"scale": 153600
},
{
"level": 2,
"resolution": 66.66666666666666,
"scale": 76800
},
{
"level": 3,
"resolution": 33.33333333333333,
"scale": 38400
},
{
"level": 4,
"resolution": 16.666666666666664,
"scale": 19200
},
{
"level": 5,
"resolution": 8.333333333333332,
"scale": 9600
},
{
"level": 6,
"resolution": 4.166666666666666,
"scale": 4800
},
{
"level": 7,
"resolution": 2.083333333333333,
"scale": 2400
},
{
"level": 8,
"resolution": 1.0416666666666665,
"scale": 1200
},
{
"level": 9,
"resolution": 0.5208333333333333,
"scale": 600
},
{
"level": 10,
"resolution": 0.26041666666666663,
"scale": 300
}
]
},
"storageInfo": {
"storageFormat": "esriMapCacheStorageModeCompactV2",
"packetSize": 128
},
"cacheType": "Map",
"allowRasterFunction": true,
"rasterFunctionInfos": [
{
"name": "None",
"description": "Make a Raster or Raster Dataset into a Function Raster Dataset.",
"help": ""
}
],
"rasterTypeInfos": [
{
"name": "Raster Dataset",
"description": "Supports all ArcGIS Raster Datasets",
"help": ""
}
],
"mensurationCapabilities": "NONE",
"hasHistograms": true,
"hasColormap": false,
"hasRasterAttributeTable": false,
"minScale": 307200,
"maxScale": 300,
"exportTilesAllowed": true,
"maxExportTilesCount": 100000,
"supportsStatistics": true,
"supportsAdvancedQueries": true,
"editFieldsInfo": null,
"ownershipBasedAccessControlForRasters": null,
"allowComputeTiePoints": false,
"useStandardizedQueries": true,
"advancedQueryCapabilities": {
"useStandardizedQueries": true,
"supportsStatistics": true,
"supportsOrderBy": true,
"supportsDistinct": true,
"supportsPagination": true
},
"spatialReference": {
"wkid": 2244,
"latestWkid": 2965
},
"resampling": false
}