{ "currentVersion": 11.3, "serviceDescription": "
The orthophotography of Hamilton County Indiana is based on true color aerial photography acquired on March 22 and April 2, 2013. The pixel resolution is 6-inch and the horizontal accuracy is +/- 2.5 feet at a 95% confidence level.<\/span><\/p><\/div><\/div><\/div>",
"name": "ImageServices/Hamilton_2013",
"description": " The orthophotography of Hamilton County Indiana is based on true color aerial photography acquired on March 22 and April 2, 2013. The pixel resolution is 6-inch and the horizontal accuracy is +/- 2.5 feet at a 95% confidence level.<\/span><\/p><\/div><\/div><\/div>",
"extent": {
"xmin": 165000,
"ymin": 1702500,
"xmax": 275000,
"ymax": 1812500,
"spatialReference": {
"wkid": 2244,
"latestWkid": 2965
}
},
"initialExtent": {
"xmin": 165000,
"ymin": 1702500,
"xmax": 275000,
"ymax": 1812500,
"spatialReference": {
"wkid": 2244,
"latestWkid": 2965
}
},
"fullExtent": {
"xmin": 165000,
"ymin": 1702500,
"xmax": 275000,
"ymax": 1812500,
"spatialReference": {
"wkid": 2244,
"latestWkid": 2965
}
},
"sortableFields": "",
"bandCount": 3,
"pixelType": "U8",
"minValues": [
0,
0,
4
],
"maxValues": [
255,
255,
255
],
"meanValues": [
112.489236,
110.713153,
91.202086
],
"stdvValues": [
37.76596918397214,
34.38757398107398,
28.500024342094715
],
"hasMultidimensions": false,
"pixelSizeX": 0.5,
"pixelSizeY": 0.5,
"meanPixelSize": 0.15240030480060962,
"datasetFormat": "AMD",
"uncompressedSize": 145200000000,
"blockWidth": 2048,
"blockHeight": 256,
"compressionType": "None",
"bandNames": [
"Band_1",
"Band_2",
"Band_3"
],
"allowCopy": true,
"allowAnalysis": true,
"itemAccess": false,
"inspectionCapabilities": "",
"minPixelSize": 0.26041666666666663,
"maxPixelSize": 266.66666666666663,
"copyrightText": "Funding was from Hamilton County, the City of Carmel, the Town of Fishers, the City of Noblesville, and the City of Westfield. The aerial photography was acquired and produced by Premier Geospatial. QC was done in-house by Hamilton County.",
"serviceDataType": "esriImageServiceDataTypeRGB",
"serviceSourceType": "esriImageServiceSourceTypeMosaicDataset",
"objectIdField": "OBJECTID",
"fields": [
{
"name": "OBJECTID",
"type": "esriFieldTypeOID",
"alias": "OBJECTID",
"domain": null
},
{
"name": "Shape",
"type": "esriFieldTypeGeometry",
"alias": "Shape",
"domain": null
},
{
"name": "Name",
"type": "esriFieldTypeString",
"alias": "Name",
"domain": null,
"length": 50
},
{
"name": "MinPS",
"type": "esriFieldTypeDouble",
"alias": "MinPS",
"domain": null
},
{
"name": "MaxPS",
"type": "esriFieldTypeDouble",
"alias": "MaxPS",
"domain": null
},
{
"name": "LowPS",
"type": "esriFieldTypeDouble",
"alias": "LowPS",
"domain": null
},
{
"name": "HighPS",
"type": "esriFieldTypeDouble",
"alias": "HighPS",
"domain": null
},
{
"name": "Category",
"type": "esriFieldTypeInteger",
"alias": "Category",
"domain": {
"type": "codedValue",
"name": "MosaicCatalogItemCategoryDomain",
"description": "Catalog item categories.",
"codedValues": [
{
"name": "Unknown",
"code": 0
},
{
"name": "Primary",
"code": 1
},
{
"name": "Overview",
"code": 2
},
{
"name": "Unprocessed Overview",
"code": 3
},
{
"name": "Partial Overview",
"code": 4
},
{
"name": "Inactive",
"code": 5
},
{
"name": "Uploaded",
"code": 253
},
{
"name": "Incomplete",
"code": 254
},
{
"name": "Custom",
"code": 255
}
],
"mergePolicy": "esriMPTDefaultValue",
"splitPolicy": "esriSPTDefaultValue"
}
},
{
"name": "Tag",
"type": "esriFieldTypeString",
"alias": "Tag",
"domain": null,
"length": 20
},
{
"name": "GroupName",
"type": "esriFieldTypeString",
"alias": "GroupName",
"domain": null,
"length": 50
},
{
"name": "ProductName",
"type": "esriFieldTypeString",
"alias": "ProductName",
"domain": null,
"length": 50
},
{
"name": "CenterX",
"type": "esriFieldTypeDouble",
"alias": "CenterX",
"domain": null
},
{
"name": "CenterY",
"type": "esriFieldTypeDouble",
"alias": "CenterY",
"domain": null
},
{
"name": "ZOrder",
"type": "esriFieldTypeInteger",
"alias": "ZOrder",
"domain": null
},
{
"name": "Shape_Length",
"type": "esriFieldTypeDouble",
"alias": "Shape_Length",
"domain": null
},
{
"name": "Shape_Area",
"type": "esriFieldTypeDouble",
"alias": "Shape_Area",
"domain": null
}
],
"capabilities": "Catalog,Image,Metadata",
"defaultMosaicMethod": "Northwest",
"allowedMosaicMethods": "NorthWest,Center,LockRaster,ByAttribute,Nadir,Viewpoint,Seamline,None",
"sortField": "",
"sortValue": null,
"sortAscending": true,
"mosaicOperator": "First",
"maxDownloadSizeLimit": 2048,
"defaultCompressionQuality": 75,
"defaultResamplingMethod": "Bilinear",
"maxImageHeight": 4100,
"maxImageWidth": 15000,
"maxRecordCount": 1000,
"maxDownloadImageCount": 20,
"maxMosaicImageCount": 20,
"singleFusedMapCache": true,
"tileInfo": {
"rows": 512,
"cols": 512,
"dpi": 96,
"format": "JPEG",
"compressionQuality": 55,
"origin": {
"x": -18119800,
"y": 20012700
},
"spatialReference": {
"wkid": 2244,
"latestWkid": 2965
},
"lods": [
{
"level": 0,
"resolution": 266.66666666666663,
"scale": 307200
},
{
"level": 1,
"resolution": 133.33333333333331,
"scale": 153600
},
{
"level": 2,
"resolution": 66.66666666666666,
"scale": 76800
},
{
"level": 3,
"resolution": 33.33333333333333,
"scale": 38400
},
{
"level": 4,
"resolution": 16.666666666666664,
"scale": 19200
},
{
"level": 5,
"resolution": 8.333333333333332,
"scale": 9600
},
{
"level": 6,
"resolution": 4.166666666666666,
"scale": 4800
},
{
"level": 7,
"resolution": 2.083333333333333,
"scale": 2400
},
{
"level": 8,
"resolution": 1.0416666666666665,
"scale": 1200
},
{
"level": 9,
"resolution": 0.5208333333333333,
"scale": 600
},
{
"level": 10,
"resolution": 0.26041666666666663,
"scale": 300
}
]
},
"storageInfo": {
"storageFormat": "esriMapCacheStorageModeCompact",
"packetSize": 128
},
"cacheType": "Map",
"allowRasterFunction": true,
"rasterFunctionInfos": [
{
"name": "None",
"description": "Make a Raster or Raster Dataset into a Function Raster Dataset.",
"help": ""
}
],
"rasterTypeInfos": [
{
"name": "Raster Dataset",
"description": "Supports all ArcGIS Raster Datasets",
"help": ""
}
],
"mensurationCapabilities": "None",
"hasHistograms": true,
"hasColormap": false,
"hasRasterAttributeTable": false,
"minScale": 307200,
"maxScale": 300,
"exportTilesAllowed": false,
"supportsStatistics": true,
"supportsAdvancedQueries": true,
"editFieldsInfo": null,
"ownershipBasedAccessControlForRasters": null,
"allowComputeTiePoints": false,
"useStandardizedQueries": true,
"advancedQueryCapabilities": {
"useStandardizedQueries": true,
"supportsStatistics": true,
"supportsOrderBy": true,
"supportsDistinct": true,
"supportsPagination": true
},
"spatialReference": {
"wkid": 2244,
"latestWkid": 2965
},
"resampling": false
}