<?xml version="1.0" encoding="UTF-8" standalone="no"?>
<metadata xml:lang="en">
<Esri>
<CreaDate>20231113</CreaDate>
<CreaTime>13162100</CreaTime>
<ArcGISFormat>1.0</ArcGISFormat>
<SyncOnce>FALSE</SyncOnce>
<DataProperties>
<lineage>
<Process Date="20231113" Name="Create Mosaic Dataset" Time="131621" ToolSource="c:\program files\arcgis\pro\Resources\ArcToolbox\toolboxes\Data Management Tools.tbx\CreateMosaicDataset" export="">CreateMosaicDataset "\\prodat.local\folders\Applications\GISImagery\2023 Certified.gdb" Hamilton_2023_Certified PROJCS["NAD_1983_StatePlane_Indiana_East_FIPS_1301_Feet",GEOGCS["GCS_North_American_1983",DATUM["D_North_American_1983",SPHEROID["GRS_1980",6378137.0,298.257222101]],PRIMEM["Greenwich",0.0],UNIT["Degree",0.0174532925199433]],PROJECTION["Transverse_Mercator"],PARAMETER["False_Easting",328083.3333333333],PARAMETER["False_Northing",820208.3333333333],PARAMETER["Central_Meridian",-85.66666666666667],PARAMETER["Scale_Factor",0.9999666666666667],PARAMETER["Latitude_Of_Origin",37.5],UNIT["Foot_US",0.3048006096012192]] 3 # "Natural color" "Red 630 690;Green 530 570;Blue 440 510"</Process>
<Process Date="20231113" Name="Add Rasters To Mosaic Dataset" Time="132230" ToolSource="c:\program files\arcgis\pro\Resources\ArcToolbox\toolboxes\Data Management Tools.tbx\AddRastersToMosaicDataset" export="">AddRastersToMosaicDataset "\\prodat.local\folders\Applications\GISImagery\2023 Certified.gdb\Hamilton_2023_Certified" "Raster Dataset" '\\prodat.local\folders\Applications\GISImagery\2023 Certified tif' UPDATE_CELL_SIZES UPDATE_BOUNDARY NO_OVERVIEWS # 0 1500 # # SUBFOLDERS "Allow duplicates" NO_PYRAMIDS NO_STATISTICS NO_THUMBNAILS # NO_FORCE_SPATIAL_REFERENCE NO_STATISTICS # NO_PIXEL_CACHE C:\Users\jkeene\AppData\Local\ESRI\rasterproxies\Hamilton_2021_Std</Process>
<Process Date="20231114" Name="" Time="080439" ToolSource="c:\program files\arcgis\pro\Resources\ArcToolbox\toolboxes\Data Management Tools.tbx\Rename" export="">Rename "\\prodat.local\folders\Applications\GISImagery\2023 Certified.gdb\Hamilton_2023_Certified" "\\prodat.local\folders\Applications\GISImagery\2023 Certified.gdb\Hamilton_2023" MosaicDataset</Process>
</lineage>
<itemProps>
<itemName Sync="TRUE">Hamilton_2023</itemName>
<itemLocation>
<linkage Sync="TRUE">file://\\prodat.local\folders\Applications\GISImagery\2023 Certified.gdb</linkage>
<protocol Sync="TRUE">Local Area Network</protocol>
</itemLocation>
<nativeExtBox>
<westBL Sync="TRUE">161250.000000</westBL>
<eastBL Sync="TRUE">278750.000000</eastBL>
<southBL Sync="TRUE">1701250.000000</southBL>
<northBL Sync="TRUE">1816250.000000</northBL>
<exTypeCode Sync="TRUE">1</exTypeCode>
</nativeExtBox>
</itemProps>
<coordRef>
<type Sync="TRUE">Projected</type>
<geogcsn Sync="TRUE">GCS_North_American_1983</geogcsn>
<csUnits Sync="TRUE">Linear Unit: Foot_US (0.304801)</csUnits>
<projcsn Sync="TRUE">NAD_1983_StatePlane_Indiana_East_FIPS_1301_Feet</projcsn>
<peXml Sync="TRUE">&lt;ProjectedCoordinateSystem xsi:type='typens:ProjectedCoordinateSystem' xmlns:xsi='http://www.w3.org/2001/XMLSchema-instance' xmlns:xs='http://www.w3.org/2001/XMLSchema' xmlns:typens='http://www.esri.com/schemas/ArcGIS/2.9.0'&gt;&lt;WKT&gt;PROJCS[&amp;quot;NAD_1983_StatePlane_Indiana_East_FIPS_1301_Feet&amp;quot;,GEOGCS[&amp;quot;GCS_North_American_1983&amp;quot;,DATUM[&amp;quot;D_North_American_1983&amp;quot;,SPHEROID[&amp;quot;GRS_1980&amp;quot;,6378137.0,298.257222101]],PRIMEM[&amp;quot;Greenwich&amp;quot;,0.0],UNIT[&amp;quot;Degree&amp;quot;,0.0174532925199433]],PROJECTION[&amp;quot;Transverse_Mercator&amp;quot;],PARAMETER[&amp;quot;False_Easting&amp;quot;,328083.3333333333],PARAMETER[&amp;quot;False_Northing&amp;quot;,820208.3333333333],PARAMETER[&amp;quot;Central_Meridian&amp;quot;,-85.66666666666667],PARAMETER[&amp;quot;Scale_Factor&amp;quot;,0.9999666666666667],PARAMETER[&amp;quot;Latitude_Of_Origin&amp;quot;,37.5],UNIT[&amp;quot;Foot_US&amp;quot;,0.3048006096012192],AUTHORITY[&amp;quot;EPSG&amp;quot;,2965]]&lt;/WKT&gt;&lt;XOrigin&gt;-18119800&lt;/XOrigin&gt;&lt;YOrigin&gt;-45615400&lt;/YOrigin&gt;&lt;XYScale&gt;137246076.82899535&lt;/XYScale&gt;&lt;ZOrigin&gt;-100000&lt;/ZOrigin&gt;&lt;ZScale&gt;10000&lt;/ZScale&gt;&lt;MOrigin&gt;-100000&lt;/MOrigin&gt;&lt;MScale&gt;10000&lt;/MScale&gt;&lt;XYTolerance&gt;0.0032808333333333331&lt;/XYTolerance&gt;&lt;ZTolerance&gt;0.001&lt;/ZTolerance&gt;&lt;MTolerance&gt;0.001&lt;/MTolerance&gt;&lt;HighPrecision&gt;true&lt;/HighPrecision&gt;&lt;WKID&gt;2244&lt;/WKID&gt;&lt;LatestWKID&gt;2965&lt;/LatestWKID&gt;&lt;/ProjectedCoordinateSystem&gt;</peXml>
</coordRef>
<RasterProperties>
<General>
<PixelDepth Sync="TRUE">8</PixelDepth>
<HasColormap Sync="TRUE">FALSE</HasColormap>
<CompressionType Sync="TRUE">None</CompressionType>
<NumBands Sync="TRUE">3</NumBands>
<Format Sync="TRUE">AMD</Format>
<HasPyramids Sync="TRUE">TRUE</HasPyramids>
<SourceType Sync="TRUE">continuous</SourceType>
<PixelType Sync="TRUE">unsigned integer</PixelType>
<NoDataValue Sync="TRUE"/>
</General>
<Properties>
<MaxImageHeight Sync="TRUE">4100</MaxImageHeight>
<MaxImageWidth Sync="TRUE">15000</MaxImageWidth>
<MaxRecordCount Sync="TRUE">1000</MaxRecordCount>
<MaxDownloadImageCount Sync="TRUE">20</MaxDownloadImageCount>
<MaxDownloadSizeLimit Sync="TRUE">2048</MaxDownloadSizeLimit>
<MaxMosaicImageCount Sync="TRUE">50</MaxMosaicImageCount>
<DefaultCompressionQuality Sync="TRUE">75</DefaultCompressionQuality>
<DefaultCompressionTolerance Sync="TRUE">0.01</DefaultCompressionTolerance>
<BlendWidth Sync="TRUE">10</BlendWidth>
<ViewpointSpacingX Sync="TRUE">600</ViewpointSpacingX>
<ViewpointSpacingY Sync="TRUE">300</ViewpointSpacingY>
<AllowedItemMetadata Sync="TRUE">Basic</AllowedItemMetadata>
<DefaultResamplingMethod Sync="TRUE">1</DefaultResamplingMethod>
<AllowedMosaicMethods Sync="TRUE">NorthWest,Center,LockRaster,ByAttribute,Nadir,Viewpoint,Seamline,None</AllowedMosaicMethods>
<AllowedCompressions Sync="TRUE">None,JPEG,LZ77,LERC</AllowedCompressions>
<AllowedMensurationCapabilities Sync="TRUE">NONE</AllowedMensurationCapabilities>
<AvailableMensurationCapabilities Sync="TRUE">None,Basic,Base-Top Height,Top-Top Shadow Height,Base-Top Shadow Height,3D</AvailableMensurationCapabilities>
<ClipToBoundary Sync="TRUE">-1</ClipToBoundary>
<FootprintMayContainNoData Sync="TRUE">-1</FootprintMayContainNoData>
<CellSizeTolerance Sync="TRUE">0.8</CellSizeTolerance>
<MinimumPixelContribution Sync="TRUE">1</MinimumPixelContribution>
<AvailableMosaicMethods Sync="TRUE">NorthWest,Center,LockRaster,ByAttribute,Nadir,Viewpoint,Seamline,None</AvailableMosaicMethods>
<AvailableCompressionMethods Sync="TRUE">None,JPEG,LZ77,LERC</AvailableCompressionMethods>
<AvailableItemMetadataLevels Sync="TRUE">None,Basic,Full</AvailableItemMetadataLevels>
<BandDefinitionKeyword Sync="TRUE">NaturalColor</BandDefinitionKeyword>
<ApplyColorCorrection Sync="TRUE">0</ApplyColorCorrection>
<_docversion_ Sync="TRUE">10</_docversion_>
<AllowedFields Sync="TRUE">Name,MinPS,MaxPS,LowPS,HighPS,Tag,GroupName,ProductName,CenterX,CenterY,ZOrder,Shape_Length,Shape_Area</AllowedFields>
<MaxCellSize Sync="TRUE">27337.5</MaxCellSize>
<LowCellSize Sync="TRUE">0.25</LowCellSize>
<HighCellSize Sync="TRUE">546.75</HighCellSize>
<PixelCacheLocation Sync="TRUE">C:\Users\jkeene\AppData\Local\ESRI\rasterproxies\Hamilton_2021_Std</PixelCacheLocation>
<ClipToFootprint Sync="TRUE">0</ClipToFootprint>
<SortAscending Sync="TRUE">-1</SortAscending>
<MosaicOperator Sync="TRUE">1</MosaicOperator>
<UseTime Sync="TRUE">0</UseTime>
<DataType Sync="TRUE">Generic</DataType>
</Properties>
<Functions Sync="TRUE">
<Function Description="Performs on-the-fly mosaic on a raster catalog." Name="Mosaic Function"/>
</Functions>
</RasterProperties>
</DataProperties>
<SyncDate>20231114</SyncDate>
<SyncTime>08072700</SyncTime>
<ModDate>20231114</ModDate>
<ModTime>8091400</ModTime>
<scaleRange>
<minScale>150000000</minScale>
<maxScale>5000</maxScale>
</scaleRange>
<ArcGISProfile>ItemDescription</ArcGISProfile>
</Esri>
<mdChar>
<CharSetCd value="004"/>
</mdChar>
<mdHrLv>
<ScopeCd value="005"/>
</mdHrLv>
<mdContact>
<rpIndName>Rob Hench</rpIndName>
<rpOrgName>GRW</rpOrgName>
<rpPosName>Project Manager</rpPosName>
<rpCntInfo>
<cntPhone>
<voiceNum>859-223-3999</voiceNum>
<voiceNum tddtty="True">859-223-3999</voiceNum>
<faxNum>859-519-4507</faxNum>
</cntPhone>
<cntAddress addressType="both">
<delPoint>801 Corporate Drive</delPoint>
<city>Lexington</city>
<adminArea>KY</adminArea>
<postCode>40503</postCode>
<country>US</country>
<eMailAdd>rhench@grwinc.com</eMailAdd>
</cntAddress>
<cntHours>Monday through Friday 8:00 AM to 4:00 PM (EST)</cntHours>
<cntInstr>If unable to reach the contact by telephone, please send an email. You should get a response within 24 hours.</cntInstr>
</rpCntInfo>
<role>
<RoleCd value="007"/>
</role>
</mdContact>
<mdDateSt Sync="TRUE">20231114</mdDateSt>
<mdStanName>ArcGIS Metadata</mdStanName>
<mdStanVer>1.0</mdStanVer>
<distInfo>
<distributor>
<distorCont>
<rpIndName>Joan Keene</rpIndName>
<rpOrgName>Hamilton County Indiana ISS Department</rpOrgName>
<rpPosName>GIS Director</rpPosName>
<rpCntInfo>
<cntPhone>
<voiceNum>317-776-8254</voiceNum>
</cntPhone>
<cntAddress addressType="both">
<delPoint>1 Hamilton County Square</delPoint>
<city>Noblesville</city>
<adminArea>IN</adminArea>
<postCode>46060</postCode>
<country>US</country>
<eMailAdd>Joan.Keene@hamiltoncounty.in.gov</eMailAdd>
</cntAddress>
</rpCntInfo>
<role>
<RoleCd value="005"/>
</role>
</distorCont>
<distorOrdPrc>
<ordInstr>Contact distributor</ordInstr>
</distorOrdPrc>
</distributor>
</distInfo>
<dataIdInfo>
<idCitation>
<resTitle>Hamilton_2023</resTitle>
<date>
<pubDate>2023-10-24</pubDate>
</date>
<citRespParty>
<rpOrgName>GRW Engineers, Inc. (GRW)</rpOrgName>
<role>
<RoleCd value="006"/>
</role>
</citRespParty>
<presForm>
<PresFormCd value="orthophotos"/>
</presForm>
<presForm>
<fgdcGeoform>Orthophotos</fgdcGeoform>
</presForm>
</idCitation>
<idAbs>&lt;DIV STYLE="text-align:Left;"&gt;&lt;DIV&gt;&lt;P&gt;&lt;SPAN&gt;Product: Hamilton County Indiana 2023 Orthophotography. Dataset Description: Hamilton County, IN 2023 Orthophotography project called for the Planning, Acquisition, AeroTriangulation, and orthophotography processing of Imagery data collected at 7cm ground sample distance (GSD). Project Area of Interest (AOI) included the county boundary and extended in all directions for a total area of 485 square miles. Existing LiDAR data supplied by the county was used as ground elevation surface to orthorectify all imagery. The counties existing 1,250ft x 1,250ft sheet tile scheme was used and extended to cover full project area. There is a total of 8,648 butt matching sheet tiles at 3inch, or 0.25', ground sample distance pixel resolution in 4-band GeoTiff file format. Mr. SID Gen-4 formatted files were also created at a 20:1 compression ratio. A single full county composite file was created as well as a composite file for each of the nine townships encompassing the county. Ground conditions: Data collected with leaf off and no snow. All data will be in NAD83(HARN)/NAVD88, GEOID 09, State Plane Indiana East Zone, US Survey Feet. Imagery was acquired on March 30 and April 9, 2023 using a Vexcel Eagle Mark 1 digital sensor at 7cm GSD and delivered in TIFF format with processed ABGPS/IMU data. Imagery was used to generate 3" Orthophotography. Ground Control: GRW established 31 ground control points which were used to control the 7cm imagery to known ground locations established throughout the project area.&lt;/SPAN&gt;&lt;/P&gt;&lt;/DIV&gt;&lt;/DIV&gt;</idAbs>
<idPurp>Yearly update of the Hamilton County IN digital orthophotography. The imagery was acquired on March 30 and April 9, 2023.</idPurp>
<idStatus>
<ProgCd value="001"/>
</idStatus>
<idPoC>
<rpIndName>Rob Hench</rpIndName>
<rpOrgName>GRW</rpOrgName>
<rpPosName>Project Manager</rpPosName>
<rpCntInfo>
<cntPhone>
<voiceNum>859-223-3999</voiceNum>
<voiceNum tddtty="True">859-223-3999</voiceNum>
<faxNum>859-519-4507</faxNum>
</cntPhone>
<cntAddress addressType="both">
<delPoint>801 Corporate Drive</delPoint>
<city>Lexington</city>
<adminArea>KY</adminArea>
<postCode>40503</postCode>
<country>US</country>
<eMailAdd>rhench@grwinc.com</eMailAdd>
</cntAddress>
<cntHours>Monday through Friday 8:00 AM to 4:00 PM (EST)</cntHours>
<cntInstr>If unable to reach the contact by telephone, please send an email. You should get a response within 24 hours.</cntInstr>
</rpCntInfo>
<role>
<RoleCd value="007"/>
</role>
</idPoC>
<resMaint>
<maintFreq>
<MaintFreqCd value="011"/>
</maintFreq>
</resMaint>
<placeKeys>
<keyword>Hamilton County</keyword>
<keyword>Indiana</keyword>
</placeKeys>
<themeKeys>
<keyword>Orthophoto</keyword>
<keyword>Ortho</keyword>
<keyword>Orthophotography</keyword>
<keyword>Aerial Photography</keyword>
<keyword>Photography</keyword>
<keyword>Imagery</keyword>
<keyword>Mr. SID</keyword>
</themeKeys>
<searchKeys>
<keyword>Orthophoto</keyword>
<keyword>Ortho</keyword>
<keyword>Orthophotography</keyword>
<keyword>Aerial Photography</keyword>
<keyword>Photography</keyword>
<keyword>Imagery</keyword>
<keyword>Hamilton County</keyword>
<keyword>Indiana</keyword>
</searchKeys>
<resConst>
<Consts>
<useLimit>&lt;DIV STYLE="text-align:Left;"&gt;&lt;DIV&gt;&lt;P&gt;&lt;SPAN&gt;None. However, users should be aware that changes may have occurred since this dataset was collected and that some parts of this data may no longer represent actual ground conditions. Users should not use this data for critical applications without a full awareness of its limitations. Acknowledgement of Hamilton County.&lt;/SPAN&gt;&lt;/P&gt;&lt;/DIV&gt;&lt;/DIV&gt;</useLimit>
</Consts>
</resConst>
<resConst>
<LegConsts>
<useLimit>Distributor assumes no liability for misuse of data.</useLimit>
<accessConsts>
<RestrictCd value="008"/>
</accessConsts>
<othConsts>No restrictions apply to this data.</othConsts>
</LegConsts>
</resConst>
<spatRpType>
<SpatRepTypCd value="001"/>
</spatRpType>
<envirDesc>Environment as of Metadata Creation: Microsoft [Unknown] Version 6.2 (Build 9200) ; Esri ArcGIS 10.2.2 (Build 3552) Service Pack N/A (Build N/A)</envirDesc>
<dataExt>
<geoEle>
<GeoBndBox>
<exTypeCode>true</exTypeCode>
<westBL>-86.26420</westBL>
<eastBL>-85.84255</eastBL>
<northBL>40.23331</northBL>
<southBL>39.91902</southBL>
</GeoBndBox>
</geoEle>
</dataExt>
<dataExt>
<exDesc>ground condition</exDesc>
<tempEle>
<TempExtent>
<exTemp>
<TM_Instant>
<tmPosition>2023-03-30</tmPosition>
</TM_Instant>
</exTemp>
</TempExtent>
</tempEle>
<tempEle>
<TempExtent>
<exTemp>
<TM_Instant>
<tmPosition>2023-04-09</tmPosition>
</TM_Instant>
</exTemp>
</TempExtent>
</tempEle>
</dataExt>
<dataLang>
<languageCode Sync="TRUE" value="eng"/>
<countryCode Sync="TRUE" value="USA"/>
</dataLang>
<dataExt>
<geoEle>
<GeoBndBox esriExtentType="search">
<exTypeCode Sync="TRUE">1</exTypeCode>
<westBL Sync="TRUE">-86.264210</westBL>
<eastBL Sync="TRUE">-85.842553</eastBL>
<northBL Sync="TRUE">40.234718</northBL>
<southBL Sync="TRUE">39.917635</southBL>
</GeoBndBox>
</geoEle>
</dataExt>
<tpCat>
<TopicCatCd value="010"/>
</tpCat>
<idCredit/>
</dataIdInfo>
<mdMaint>
<maintFreq>
<MaintFreqCd value="012"/>
</maintFreq>
<maintNote>Last metadata review date: 2023-10-24</maintNote>
</mdMaint>
<mdConst>
<SecConsts>
<class>
<ClasscationCd value="none"/>
</class>
<classSys>None</classSys>
<handDesc>None</handDesc>
</SecConsts>
</mdConst>
<dqInfo>
<dqScope>
<scpLvl>
<ScopeCd value="005"/>
</scpLvl>
</dqScope>
<report type="DQConcConsis">
<measDesc>Data covers the entire area specified for this project.</measDesc>
</report>
<report type="DQCompOm">
<measDesc>A visual qualitative assessment was performed to ensure data completeness. No void areas or missing data exist.</measDesc>
</report>
<report dimension="vertical" type="DQAbsExtPosAcc">
<measDesc>A formal accuracy assessment of the vertical positional information in the data set has either not been conducted, or is not applicable.</measDesc>
<evalMethDesc>N/A</evalMethDesc>
<measResult>
<QuanResult>
<quanVal>0 N/A</quanVal>
</QuanResult>
</measResult>
</report>
<dataLineage>
<prcStep>
<stepDesc>3,700 exposures of digital aerial photography was collected with a Vexcel UltraCam Eagle Mark I Aerial Camera System with a ground sample distance of 7cm. Imagery was orthorectified to a ground sample distance of 0.25 U.S. Survey Feet using Imagestation OrthoPro software utilizing aerial triangulation performed by GRW. Existing LiDAR surface elevation data provided by the county was used for the ground surface elevation data. Mosaic seamlines were created and edited to ensure the seamlines would provide the best possible appearance of a final seamless set of orthophotos. Rectified images were then mosaicked into a total of 8,648 1,250ft x 1,250ft butt-matched sheet tiles in 4-Band RGBN format. All tiles were reviewed for completeness and proper matching of the mosaicked images along the sheet tiles as well as the seamlines. All files were reviewed for proper final GeoTiff file formatting and image header information.</stepDesc>
<stepDateTm>2023-10-24</stepDateTm>
</prcStep>
<prcStep>
<stepDesc>Mr. SID Gen-4 formatted files were created at a 20:1 compression ratio. A single full county composite file was created as well as a composite file for each of the nine townships encompassing the county. All files were reviewed for completeness.</stepDesc>
<stepDateTm>2023-10-24</stepDateTm>
</prcStep>
</dataLineage>
</dqInfo>
<spatRepInfo>
<VectSpatRep>
<geometObjs>
<geoObjTyp>
<GeoObjTypCd value="004"/>
</geoObjTyp>
<geoObjCnt>1</geoObjCnt>
</geometObjs>
</VectSpatRep>
<Georect>
<cellGeo>
<CellGeoCd Sync="TRUE" value="002"/>
</cellGeo>
<numDims Sync="TRUE">2</numDims>
<tranParaAv Sync="TRUE">1</tranParaAv>
<chkPtAv Sync="TRUE">0</chkPtAv>
<cornerPts>
<pos Sync="TRUE">161250.000000 1701250.000000</pos>
</cornerPts>
<cornerPts>
<pos Sync="TRUE">161250.000000 1816250.000000</pos>
</cornerPts>
<cornerPts>
<pos Sync="TRUE">278750.000000 1816250.000000</pos>
</cornerPts>
<cornerPts>
<pos Sync="TRUE">278750.000000 1701250.000000</pos>
</cornerPts>
<centerPt>
<pos Sync="TRUE">220000.000000 1758750.000000</pos>
</centerPt>
<axisDimension type="002">
<dimSize Sync="TRUE">470000</dimSize>
<dimResol>
<value Sync="TRUE" uom="ftUS">0.250000</value>
</dimResol>
</axisDimension>
<axisDimension type="001">
<dimSize Sync="TRUE">460000</dimSize>
<dimResol>
<value Sync="TRUE" uom="ftUS">0.250000</value>
</dimResol>
</axisDimension>
<ptInPixel>
<PixOrientCd Sync="TRUE" value="001"/>
</ptInPixel>
</Georect>
</spatRepInfo>
<mdExtInfo>
<extOnRes>
<linkage>None</linkage>
<orName>None</orName>
</extOnRes>
</mdExtInfo>
<mdLang>
<languageCode Sync="TRUE" value="eng"/>
<countryCode Sync="TRUE" value="USA"/>
</mdLang>
<refSysInfo>
<RefSystem>
<refSysID>
<identCode Sync="TRUE" code="2965"/>
<idCodeSpace Sync="TRUE">EPSG</idCodeSpace>
<idVersion Sync="TRUE">6.3(9.0.0)</idVersion>
</refSysID>
</RefSystem>
</refSysInfo>
<contInfo>
<ImgDesc>
<contentTyp>
<ContentTypCd Sync="TRUE" value="001"/>
</contentTyp>
<covDim>
<Band>
<dimDescrp Sync="TRUE">Red</dimDescrp>
<maxVal Sync="TRUE">255.000000</maxVal>
<minVal Sync="TRUE">0.000000</minVal>
<bitsPerVal Sync="TRUE">8</bitsPerVal>
<valUnit>
<UOM type="length"/>
</valUnit>
</Band>
<Band>
<dimDescrp Sync="TRUE">Green</dimDescrp>
<maxVal Sync="TRUE">255.000000</maxVal>
<minVal Sync="TRUE">13.000000</minVal>
<bitsPerVal Sync="TRUE">8</bitsPerVal>
<valUnit>
<UOM type="length"/>
</valUnit>
</Band>
<Band>
<dimDescrp Sync="TRUE">Blue</dimDescrp>
<maxVal Sync="TRUE">255.000000</maxVal>
<minVal Sync="TRUE">15.000000</minVal>
<bitsPerVal Sync="TRUE">8</bitsPerVal>
<valUnit>
<UOM type="length"/>
</valUnit>
</Band>
</covDim>
</ImgDesc>
</contInfo>
</metadata>
