<?xml version="1.0" encoding="UTF-8" standalone="no"?>
<metadata xml:lang="en">
<Esri>
<CreaDate>20220627</CreaDate>
<CreaTime>11475200</CreaTime>
<ArcGISFormat>1.0</ArcGISFormat>
<SyncOnce>FALSE</SyncOnce>
<DataProperties>
<lineage>
<Process Date="20220627" Name="Create Mosaic Dataset" Time="114752" ToolSource="c:\program files\arcgis\pro\Resources\ArcToolbox\toolboxes\Data Management Tools.tbx\CreateMosaicDataset">CreateMosaicDataset "\\prodat.local\folders\Applications\GISImagery\2021 Certified.gdb" Hamilton_2021_Certified PROJCS["NAD_1983_StatePlane_Indiana_East_FIPS_1301_Feet",GEOGCS["GCS_North_American_1983",DATUM["D_North_American_1983",SPHEROID["GRS_1980",6378137.0,298.257222101]],PRIMEM["Greenwich",0.0],UNIT["Degree",0.0174532925199433]],PROJECTION["Transverse_Mercator"],PARAMETER["False_Easting",328083.3333333333],PARAMETER["False_Northing",820208.3333333333],PARAMETER["Central_Meridian",-85.66666666666667],PARAMETER["Scale_Factor",0.9999666666666667],PARAMETER["Latitude_Of_Origin",37.5],UNIT["Foot_US",0.3048006096012192]] 3 # "Natural color" "Red 630 690;Green 530 570;Blue 440 510"</Process>
<Process Date="20220627" Name="Add Rasters To Mosaic Dataset" Time="115712" ToolSource="c:\program files\arcgis\pro\Resources\ArcToolbox\toolboxes\Data Management Tools.tbx\AddRastersToMosaicDataset">AddRastersToMosaicDataset "\\prodat.local\folders\Applications\GISImagery\2021 Certified.gdb\Hamilton_2021_Certified" "Raster Dataset" '\\prodat.local\folders\Applications\GISImagery\2021 Cert tif' UPDATE_CELL_SIZES UPDATE_BOUNDARY NO_OVERVIEWS # 0 1500 # # SUBFOLDERS "Allow duplicates" NO_PYRAMIDS NO_STATISTICS NO_THUMBNAILS # NO_FORCE_SPATIAL_REFERENCE NO_STATISTICS # NO_PIXEL_CACHE C:\Users\jkeene\AppData\Local\ESRI\rasterproxies\Hamilton_2021_Std</Process>
</lineage>
<itemProps>
<itemName Sync="TRUE">Hamilton_2021_Certified</itemName>
<itemLocation>
<linkage Sync="TRUE">file://\\prodat.local\folders\Applications\GISImagery\2021 Certified.gdb</linkage>
<protocol Sync="TRUE">Local Area Network</protocol>
</itemLocation>
<nativeExtBox>
<westBL Sync="TRUE">165000.000000</westBL>
<eastBL Sync="TRUE">273750.000000</eastBL>
<southBL Sync="TRUE">1703750.000000</southBL>
<northBL Sync="TRUE">1811250.000000</northBL>
<exTypeCode Sync="TRUE">1</exTypeCode>
</nativeExtBox>
</itemProps>
<coordRef>
<type Sync="TRUE">Projected</type>
<geogcsn Sync="TRUE">GCS_North_American_1983</geogcsn>
<csUnits Sync="TRUE">Linear Unit: Foot_US (0.304801)</csUnits>
<projcsn Sync="TRUE">NAD_1983_StatePlane_Indiana_East_FIPS_1301_Feet</projcsn>
<peXml Sync="TRUE">&lt;ProjectedCoordinateSystem xsi:type='typens:ProjectedCoordinateSystem' xmlns:xsi='http://www.w3.org/2001/XMLSchema-instance' xmlns:xs='http://www.w3.org/2001/XMLSchema' xmlns:typens='http://www.esri.com/schemas/ArcGIS/2.9.0'&gt;&lt;WKT&gt;PROJCS[&amp;quot;NAD_1983_StatePlane_Indiana_East_FIPS_1301_Feet&amp;quot;,GEOGCS[&amp;quot;GCS_North_American_1983&amp;quot;,DATUM[&amp;quot;D_North_American_1983&amp;quot;,SPHEROID[&amp;quot;GRS_1980&amp;quot;,6378137.0,298.257222101]],PRIMEM[&amp;quot;Greenwich&amp;quot;,0.0],UNIT[&amp;quot;Degree&amp;quot;,0.0174532925199433]],PROJECTION[&amp;quot;Transverse_Mercator&amp;quot;],PARAMETER[&amp;quot;False_Easting&amp;quot;,328083.3333333333],PARAMETER[&amp;quot;False_Northing&amp;quot;,820208.3333333333],PARAMETER[&amp;quot;Central_Meridian&amp;quot;,-85.66666666666667],PARAMETER[&amp;quot;Scale_Factor&amp;quot;,0.9999666666666667],PARAMETER[&amp;quot;Latitude_Of_Origin&amp;quot;,37.5],UNIT[&amp;quot;Foot_US&amp;quot;,0.3048006096012192],AUTHORITY[&amp;quot;EPSG&amp;quot;,2965]]&lt;/WKT&gt;&lt;XOrigin&gt;-18119800&lt;/XOrigin&gt;&lt;YOrigin&gt;-45615400&lt;/YOrigin&gt;&lt;XYScale&gt;137246076.82899535&lt;/XYScale&gt;&lt;ZOrigin&gt;-100000&lt;/ZOrigin&gt;&lt;ZScale&gt;10000&lt;/ZScale&gt;&lt;MOrigin&gt;-100000&lt;/MOrigin&gt;&lt;MScale&gt;10000&lt;/MScale&gt;&lt;XYTolerance&gt;0.0032808333333333331&lt;/XYTolerance&gt;&lt;ZTolerance&gt;0.001&lt;/ZTolerance&gt;&lt;MTolerance&gt;0.001&lt;/MTolerance&gt;&lt;HighPrecision&gt;true&lt;/HighPrecision&gt;&lt;WKID&gt;2244&lt;/WKID&gt;&lt;LatestWKID&gt;2965&lt;/LatestWKID&gt;&lt;/ProjectedCoordinateSystem&gt;</peXml>
</coordRef>
<RasterProperties>
<General>
<PixelDepth Sync="TRUE">8</PixelDepth>
<HasColormap Sync="TRUE">FALSE</HasColormap>
<CompressionType Sync="TRUE">None</CompressionType>
<NumBands Sync="TRUE">3</NumBands>
<Format Sync="TRUE">AMD</Format>
<HasPyramids Sync="TRUE">TRUE</HasPyramids>
<SourceType Sync="TRUE">continuous</SourceType>
<PixelType Sync="TRUE">unsigned integer</PixelType>
<NoDataValue Sync="TRUE"/>
</General>
<Properties>
<MaxImageHeight Sync="TRUE">4100</MaxImageHeight>
<MaxImageWidth Sync="TRUE">15000</MaxImageWidth>
<MaxRecordCount Sync="TRUE">1000</MaxRecordCount>
<MaxDownloadImageCount Sync="TRUE">20</MaxDownloadImageCount>
<MaxDownloadSizeLimit Sync="TRUE">2048</MaxDownloadSizeLimit>
<MaxMosaicImageCount Sync="TRUE">20</MaxMosaicImageCount>
<DefaultCompressionQuality Sync="TRUE">75</DefaultCompressionQuality>
<DefaultCompressionTolerance Sync="TRUE">0.01</DefaultCompressionTolerance>
<BlendWidth Sync="TRUE">10</BlendWidth>
<ViewpointSpacingX Sync="TRUE">600</ViewpointSpacingX>
<ViewpointSpacingY Sync="TRUE">300</ViewpointSpacingY>
<AllowedItemMetadata Sync="TRUE">Basic</AllowedItemMetadata>
<DefaultResamplingMethod Sync="TRUE">1</DefaultResamplingMethod>
<AllowedMosaicMethods Sync="TRUE">NorthWest,Center,LockRaster,ByAttribute,Nadir,Viewpoint,Seamline,None</AllowedMosaicMethods>
<AllowedCompressions Sync="TRUE">None,JPEG,LZ77,LERC</AllowedCompressions>
<AllowedMensurationCapabilities Sync="TRUE">None</AllowedMensurationCapabilities>
<AvailableMensurationCapabilities Sync="TRUE">None,Basic,Base-Top Height,Top-Top Shadow Height,Base-Top Shadow Height,3D</AvailableMensurationCapabilities>
<ClipToBoundary Sync="TRUE">-1</ClipToBoundary>
<FootprintMayContainNoData Sync="TRUE">-1</FootprintMayContainNoData>
<CellSizeTolerance Sync="TRUE">0.8</CellSizeTolerance>
<MinimumPixelContribution Sync="TRUE">1</MinimumPixelContribution>
<AvailableMosaicMethods Sync="TRUE">NorthWest,Center,LockRaster,ByAttribute,Nadir,Viewpoint,Seamline,None</AvailableMosaicMethods>
<AvailableCompressionMethods Sync="TRUE">None,JPEG,LZ77,LERC</AvailableCompressionMethods>
<AvailableItemMetadataLevels Sync="TRUE">None,Basic,Full</AvailableItemMetadataLevels>
<BandDefinitionKeyword Sync="TRUE">NaturalColor</BandDefinitionKeyword>
<_docversion_ Sync="TRUE">10</_docversion_>
<AllowedFields Sync="TRUE">Name,MinPS,MaxPS,LowPS,HighPS,Tag,GroupName,ProductName,CenterX,CenterY,ZOrder,Shape_Length,Shape_Area</AllowedFields>
<MaxCellSize Sync="TRUE">27337.5</MaxCellSize>
<LowCellSize Sync="TRUE">0.25</LowCellSize>
<HighCellSize Sync="TRUE">546.75</HighCellSize>
<PixelCacheLocation Sync="TRUE">C:\Users\jkeene\AppData\Local\ESRI\rasterproxies\Hamilton_2021_Std</PixelCacheLocation>
</Properties>
<Functions Sync="TRUE">
<Function Description="Performs on-the-fly mosaic on a raster catalog." Name="Mosaic Function"/>
</Functions>
</RasterProperties>
</DataProperties>
<SyncDate>20220628</SyncDate>
<SyncTime>08175600</SyncTime>
<ModDate>20220628</ModDate>
<ModTime>08175600</ModTime>
</Esri>
<mdChar>
<CharSetCd value="004"/>
</mdChar>
<mdHrLv>
<ScopeCd value="005"/>
</mdHrLv>
<mdContact>
<rpOrgName>Hamilton County, Indiana</rpOrgName>
<rpPosName>GIS Director, ISS Department</rpPosName>
<rpCntInfo>
<cntPhone>
<voiceNum>317-776-8254</voiceNum>
</cntPhone>
<cntAddress addressType="both">
<delPoint>1 Hamilton County Square</delPoint>
<city>Noblesville</city>
<adminArea>Indiana</adminArea>
<postCode>46060</postCode>
<country>US</country>
</cntAddress>
</rpCntInfo>
<role>
<RoleCd value="007"/>
</role>
</mdContact>
<mdDateSt>20210823</mdDateSt>
<mdStanName>ArcGIS Metadata</mdStanName>
<mdStanVer>1.0</mdStanVer>
<distInfo>
<distTranOps>
<onLineSrc>
<linkage>https://gis1.hamiltoncounty.in.gov/generalviewer/</linkage>
</onLineSrc>
</distTranOps>
</distInfo>
<dataIdInfo>
<idCitation>
<resTitle>Hamilton_2021</resTitle>
<date>
<pubDate>2021-08-23</pubDate>
</date>
<citRespParty>
<rpOrgName>Hamilton</rpOrgName>
<role>
<RoleCd value="006"/>
</role>
</citRespParty>
<citRespParty>
<rpOrgName>IN</rpOrgName>
<role>
<RoleCd value="006"/>
</role>
</citRespParty>
<presForm>
<PresFormCd value="005"/>
</presForm>
<presForm>
<fgdcGeoform>raster digital data</fgdcGeoform>
</presForm>
</idCitation>
<idAbs>The dataset consists of tiled orthogonal imagery produced from nadir images captured by Pictometry International. Automatic aerial triangulation (AAT) was performed. The triangulated frames were rectified to a LiDAR derived DEM. Mosaicking was performed using an automatic seaming algorithm and manually edited to eliminate seams through elevated features where possible.
The following tiles were affected by flooding and reflown:
242088E1774344N (reflown April 23, 2021 and April 26, 2021)
242088E1769064N (reflown April 26, 2021 and April 27, 2021)
244728E1769064N (reflown April 26, 2021 and April 27, 2021)
242088E1766424N (reflown April 26, 2021 and April 27, 2021)
244728E1766424N (reflown April 26, 2021 and April 27, 2021)
242088E1763784N (reflown April 26, 2021 and April 27, 2021)</idAbs>
<idPurp>Orthogonal image mosaics to support the needs of IN Hamilton. Other uses expected.</idPurp>
<idStatus>
<ProgCd value="001"/>
</idStatus>
<idPoC>
<rpIndName>Thom S. Salter</rpIndName>
<rpOrgName>Pictometry International Corp.</rpOrgName>
<rpPosName>Director, Photogrammetric Production</rpPosName>
<rpCntInfo>
<cntPhone>
<voiceNum>585-486-0093</voiceNum>
<faxNum>585-486-0098</faxNum>
</cntPhone>
<cntAddress addressType="both">
<delPoint>25 Methodist Hill Drive</delPoint>
<city>Rochester</city>
<adminArea>New York</adminArea>
<postCode>14623</postCode>
<country>US</country>
</cntAddress>
<cntHours>0900-1700 EST</cntHours>
</rpCntInfo>
<role>
<RoleCd value="007"/>
</role>
</idPoC>
<resMaint>
<maintFreq>
<MaintFreqCd value="009"/>
</maintFreq>
</resMaint>
<placeKeys>
<keyword>Hamilton County (18057)</keyword>
<keyword>Indiana (18)</keyword>
<thesaName>
<resTitle>Geographic Names Index Service</resTitle>
</thesaName>
</placeKeys>
<tempKeys>
<keyword>Current</keyword>
</tempKeys>
<themeKeys>
<keyword>Digital Orthophotography</keyword>
</themeKeys>
<searchKeys>
<keyword>Digital Orthophotography</keyword>
<keyword>Hamilton County (18057)</keyword>
<keyword>Indiana (18)</keyword>
<keyword>Current</keyword>
</searchKeys>
<resConst>
<Consts>
<useLimit>Use of this data is constrained by the license agreements between Pictometry International and IN Hamilton.</useLimit>
</Consts>
</resConst>
<resConst>
<LegConsts>
<useLimit>The information on this website is provided and hosted by Hamilton County, Indiana. Continued use of this website is conditional upon your explicit acceptance of the terms and conditions set forth in this disclaimer document. The data provided herein may be inaccurate and/or out of date. Any person or entity who relies on this data for any purpose whatsoever does so solely at their own risk. Neither Hamilton County, Indiana nor its employees or officers warrant the accuracy, reliability, or timeliness of any of the data provided herein. This data is provided "as is" without warranty of any kind. The recipient may copy this data into computer memory or onto computer storage devices and prepare derivative works from it. Hamilton County Ordinance 11-26-07-B Section 5 states: Pursuant to the provisions of Indiana Code 5-14-3-3(e) no person other than those authorized by the County may reproduce, store, grant access, deliver, or sell any information obtained from any department or office of the County to any other person, partnership, or corporation for commercial purposes. Hamilton County may elect to discontinue this service without notice at any point in the future.
Links: Hamilton County Ordinance 11-26-07-B Section 5: https://library.municode.com/in/hamilton_county/codes/code_of_ordinances?nodeId=COOR_TIT5STLOAD_ART14PUREPUME_CH3ACPURE
Indiana Code 5-14-3-3(e): http://iga.in.gov/legislative/laws/2021/ic/titles/001</useLimit>
<accessConsts>
<RestrictCd value="008"/>
</accessConsts>
<othConsts>Access to this data is constrained by the license agreements between Pictometry International and IN Hamilton.</othConsts>
</LegConsts>
</resConst>
<spatRpType>
<SpatRepTypCd value="002"/>
</spatRpType>
<envirDesc>Applanix POSPac v7.2; Inpho Match-AT v8.0; Inpho OrthoMaster v8.0; Inpho OrthoVista v8.0; Microsoft Windows 7 Enterprise Service Pack 1; ESRI ArcCatalog 10.4.1.5686</envirDesc>
<dataExt>
<geoEle>
<GeoBndBox>
<exTypeCode>true</exTypeCode>
<westBL>-86.280261</westBL>
<eastBL>-85.838510</eastBL>
<northBL>40.238027</northBL>
<southBL>39.903888</southBL>
</GeoBndBox>
</geoEle>
</dataExt>
<dataExt>
<exDesc>ground condition</exDesc>
<tempEle>
<TempExtent>
<exTemp>
<TM_Period>
<tmBegin>2021-03-14</tmBegin>
<tmEnd>2021-05-01</tmEnd>
</TM_Period>
</exTemp>
</TempExtent>
</tempEle>
<geoEle/>
</dataExt>
<dataLang>
<languageCode Sync="TRUE" value="eng"/>
<countryCode Sync="TRUE" value="USA"/>
</dataLang>
<dataExt>
<geoEle>
<GeoBndBox esriExtentType="search">
<exTypeCode Sync="TRUE">1</exTypeCode>
<westBL Sync="TRUE">-86.250661</westBL>
<eastBL Sync="TRUE">-85.860398</eastBL>
<northBL Sync="TRUE">40.220964</northBL>
<southBL Sync="TRUE">39.924566</southBL>
</GeoBndBox>
</geoEle>
</dataExt>
<idCredit/>
</dataIdInfo>
<mdMaint>
<maintFreq>
<MaintFreqCd value="012"/>
</maintFreq>
<maintNote>Last metadata review date: 2022-06-14</maintNote>
</mdMaint>
<dqInfo>
<dqScope>
<scpLvl>
<ScopeCd value="005"/>
</scpLvl>
</dqScope>
<report type="DQConcConsis">
<measDesc>Dataset is orthoimagery. Logical consistency is not applicable.</measDesc>
</report>
<report type="DQCompOm">
<measDesc>The 2021 IN Hamilton Orthogonal data associated with this metadata file completely covers the project-specified boundary.</measDesc>
</report>
<dataLineage>
<prcStep>
<stepDesc>GPS/INS processing: Data was post-processed using NGS CORS base station data using Applanix POSPac v7.2.</stepDesc>
<stepDateTm date="unknown"/>
<stepProc>
<rpIndName>Thom S. Salter</rpIndName>
<rpOrgName>Pictometry International Corp.</rpOrgName>
<rpPosName>Director, Photogrammetric Production</rpPosName>
<rpCntInfo>
<cntPhone>
<voiceNum>585-486-0093</voiceNum>
<faxNum>585-486-0098</faxNum>
</cntPhone>
<cntAddress addressType="both">
<delPoint>25 Methodist Hill Drive</delPoint>
<city>Rochester</city>
<adminArea>New York</adminArea>
<postCode>14623</postCode>
<country>US</country>
</cntAddress>
<cntHours>0900-1700 EST</cntHours>
</rpCntInfo>
<role>
<RoleCd value="009"/>
</role>
</stepProc>
</prcStep>
<prcStep>
<stepDesc>AeroTriangulation: Imagery was aerotriangulated using Inpho's Match-AT software.</stepDesc>
<stepDateTm date="unknown"/>
<stepProc>
<rpIndName>Thom S. Salter</rpIndName>
<rpOrgName>Pictometry International Corp.</rpOrgName>
<rpPosName>Director, Photogrammetric Production</rpPosName>
<rpCntInfo>
<cntPhone>
<voiceNum>585-486-0093</voiceNum>
<faxNum>585-486-0098</faxNum>
</cntPhone>
<cntAddress addressType="both">
<delPoint>25 Methodist Hill Drive</delPoint>
<city>Rochester</city>
<adminArea>New York</adminArea>
<postCode>14623</postCode>
<country>US</country>
</cntAddress>
<cntHours>0900-1700 EST</cntHours>
</rpCntInfo>
<role>
<RoleCd value="009"/>
</role>
</stepProc>
</prcStep>
<prcStep>
<stepDesc>Rectification: Ortho-rectification was performed using Inpho's OrthoMaster software. A LiDAR based DEM was used as the rectification surface.</stepDesc>
<stepDateTm date="unknown"/>
<stepProc>
<rpIndName>Thom S. Salter</rpIndName>
<rpOrgName>Pictometry International Corp.</rpOrgName>
<rpPosName>Director, Photogrammetric Production</rpPosName>
<rpCntInfo>
<cntPhone>
<voiceNum>585-486-0093</voiceNum>
<faxNum>585-486-0098</faxNum>
</cntPhone>
<cntAddress addressType="both">
<delPoint>25 Methodist Hill Drive</delPoint>
<city>Rochester</city>
<adminArea>New York</adminArea>
<postCode>14623</postCode>
<country>US</country>
</cntAddress>
<cntHours>0900-1700 EST</cntHours>
</rpCntInfo>
<role>
<RoleCd value="009"/>
</role>
</stepProc>
</prcStep>
<prcStep>
<stepDesc>Mosaicking: Mosaicking was performed using Inpho's OrthoVista software and SeamEditor was employed for manual corrections.</stepDesc>
<stepDateTm date="unknown"/>
<stepProc>
<rpIndName>Thom S. Salter</rpIndName>
<rpOrgName>Pictometry International Corp.</rpOrgName>
<rpPosName>Director, Photogrammetric Production</rpPosName>
<rpCntInfo>
<cntPhone>
<voiceNum>585-486-0093</voiceNum>
<faxNum>585-486-0098</faxNum>
</cntPhone>
<cntAddress addressType="both">
<delPoint>25 Methodist Hill Drive</delPoint>
<city>Rochester</city>
<adminArea>New York</adminArea>
<postCode>14623</postCode>
<country>US</country>
</cntAddress>
<cntHours>0900-1700 EST</cntHours>
</rpCntInfo>
<role>
<RoleCd value="009"/>
</role>
</stepProc>
</prcStep>
</dataLineage>
</dqInfo>
<spatRepInfo>
<Georect>
<numDims>2</numDims>
<axisDimension type="001">
<dimSize>5000</dimSize>
<dimResol>
<value Sync="TRUE" uom="ftUS">0.250000</value>
</dimResol>
</axisDimension>
<axisDimension type="002">
<dimSize>5000</dimSize>
<dimResol>
<value Sync="TRUE" uom="ftUS">0.250000</value>
</dimResol>
</axisDimension>
<cellGeo>
<CellGeoCd Sync="TRUE" value="002"/>
</cellGeo>
<tranParaAv Sync="TRUE">1</tranParaAv>
<chkPtAv Sync="TRUE">0</chkPtAv>
<cornerPts>
<pos Sync="TRUE">165000.000000 1703750.000000</pos>
</cornerPts>
<cornerPts>
<pos Sync="TRUE">165000.000000 1811250.000000</pos>
</cornerPts>
<cornerPts>
<pos Sync="TRUE">273750.000000 1811250.000000</pos>
</cornerPts>
<cornerPts>
<pos Sync="TRUE">273750.000000 1703750.000000</pos>
</cornerPts>
<centerPt>
<pos Sync="TRUE">219375.000000 1757500.000000</pos>
</centerPt>
<ptInPixel>
<PixOrientCd Sync="TRUE" value="001"/>
</ptInPixel>
</Georect>
</spatRepInfo>
<mdLang>
<languageCode Sync="TRUE" value="eng"/>
<countryCode Sync="TRUE" value="USA"/>
</mdLang>
<refSysInfo>
<RefSystem>
<refSysID>
<identCode Sync="TRUE" code="2965"/>
<idCodeSpace Sync="TRUE">EPSG</idCodeSpace>
<idVersion Sync="TRUE">6.3(9.0.0)</idVersion>
</refSysID>
</RefSystem>
</refSysInfo>
<contInfo>
<ImgDesc>
<contentTyp>
<ContentTypCd Sync="TRUE" value="001"/>
</contentTyp>
<covDim>
<Band>
<dimDescrp Sync="TRUE">Red</dimDescrp>
<maxVal Sync="TRUE">255.000000</maxVal>
<minVal Sync="TRUE">0.000000</minVal>
<bitsPerVal Sync="TRUE">8</bitsPerVal>
<valUnit>
<UOM type="length"/>
</valUnit>
</Band>
<Band>
<dimDescrp Sync="TRUE">Green</dimDescrp>
<maxVal Sync="TRUE">255.000000</maxVal>
<minVal Sync="TRUE">1.000000</minVal>
<bitsPerVal Sync="TRUE">8</bitsPerVal>
<valUnit>
<UOM type="length"/>
</valUnit>
</Band>
<Band>
<dimDescrp Sync="TRUE">Blue</dimDescrp>
<maxVal Sync="TRUE">255.000000</maxVal>
<minVal Sync="TRUE">4.000000</minVal>
<bitsPerVal Sync="TRUE">8</bitsPerVal>
<valUnit>
<UOM type="length"/>
</valUnit>
</Band>
</covDim>
</ImgDesc>
</contInfo>
</metadata>
