<?xml version="1.0" encoding="UTF-8" standalone="no"?>
<metadata xml:lang="en">
<Esri>
<CreaDate>20240521</CreaDate>
<CreaTime>12551200</CreaTime>
<ArcGISFormat>1.0</ArcGISFormat>
<SyncOnce>FALSE</SyncOnce>
<DataProperties>
<lineage>
<Process Date="20120726" Time="092153" ToolSource="c:\program files (x86)\arcgis\desktop10.1\ArcToolbox\Toolboxes\Data Management Tools.tbx\CreateMosaicDataset">CreateMosaicDataset \\HAMCO-AGSPROD1\Raster\Mosaics.gdb Hamilton_2001 "PROJCS['NAD_1983_StatePlane_Indiana_East_FIPS_1301_Feet',GEOGCS['GCS_North_American_1983',DATUM['D_North_American_1983',SPHEROID['GRS_1980',6378137.0,298.257222101]],PRIMEM['Greenwich',0.0],UNIT['Degree',0.0174532925199433]],PROJECTION['Transverse_Mercator'],PARAMETER['False_Easting',328083.3333333333],PARAMETER['False_Northing',820208.3333333333],PARAMETER['Central_Meridian',-85.66666666666667],PARAMETER['Scale_Factor',0.9999666666666667],PARAMETER['Latitude_Of_Origin',37.5],UNIT['Foot_US',0.3048006096012192]];-18119800 -45615400 3048.00609601219;-100000 10000;-100000 10000;3.28083333333333E-03;0.001;0.001;IsHighPrecision" # # NONE #</Process>
<Process Date="20120727" Time="031604" ToolSource="c:\program files (x86)\arcgis\desktop10.1\ArcToolbox\Toolboxes\Data Management Tools.tbx\AddRastersToMosaicDataset">AddRastersToMosaicDataset E:\Raster\Mosaics.gdb\Hamilton_2001 "Raster Dataset" E:\Raster\2001tif UPDATE_CELL_SIZES UPDATE_BOUNDARY UPDATE_OVERVIEWS # 0 1500 # # SUBFOLDERS ALLOW_DUPLICATES NO_PYRAMIDS NO_STATISTICS NO_THUMBNAILS # NO_FORCE_SPATIAL_REFERENCE</Process>
<Process Date="20120727" Time="032142" ToolSource="c:\program files (x86)\arcgis\desktop10.1\ArcToolbox\Toolboxes\Data Management Tools.tbx\AnalyzeMosaicDataset">AnalyzeMosaicDataset E:\Raster\Mosaics.gdb\Hamilton_2001 # FOOTPRINT;FUNCTION;RASTER;PATHS</Process>
<Process Date="20240521" Time="125518" ToolSource="c:\program files\arcgis\pro\Resources\ArcToolbox\toolboxes\Data Management Tools.tbx\CopyMultiple">CopyMultiple "\\prodat.local\folders\Applications\GISImagery\Mosaics.gdb\Hamilton_2001 MosaicDataset" \\prodat.local\folders\Applications\GISImagery\2001_tif.gdb Hamilton_2001 "Hamilton_2001 MosaicDataset Hamilton_2001 #"</Process>
</lineage>
<itemProps>
<itemName Sync="TRUE">Hamilton_2001</itemName>
<itemLocation>
<linkage Sync="TRUE">file://\\prodat.local\folders\Applications\GISImagery\2001_tif.gdb</linkage>
<protocol Sync="TRUE">Local Area Network</protocol>
</itemLocation>
<nativeExtBox>
<westBL Sync="TRUE">165000.000000</westBL>
<eastBL Sync="TRUE">275000.000000</eastBL>
<southBL Sync="TRUE">1702500.000000</southBL>
<northBL Sync="TRUE">1812500.000000</northBL>
<exTypeCode Sync="TRUE">1</exTypeCode>
</nativeExtBox>
</itemProps>
<coordRef>
<type Sync="TRUE">Projected</type>
<geogcsn Sync="TRUE">GCS_North_American_1983</geogcsn>
<csUnits Sync="TRUE">Linear Unit: Foot_US (0.304801)</csUnits>
<projcsn Sync="TRUE">NAD_1983_StatePlane_Indiana_East_FIPS_1301_Feet</projcsn>
<peXml Sync="TRUE">&lt;ProjectedCoordinateSystem xsi:type='typens:ProjectedCoordinateSystem' xmlns:xsi='http://www.w3.org/2001/XMLSchema-instance' xmlns:xs='http://www.w3.org/2001/XMLSchema' xmlns:typens='http://www.esri.com/schemas/ArcGIS/10.5'&gt;&lt;WKT&gt;PROJCS[&amp;quot;NAD_1983_StatePlane_Indiana_East_FIPS_1301_Feet&amp;quot;,GEOGCS[&amp;quot;GCS_North_American_1983&amp;quot;,DATUM[&amp;quot;D_North_American_1983&amp;quot;,SPHEROID[&amp;quot;GRS_1980&amp;quot;,6378137.0,298.257222101]],PRIMEM[&amp;quot;Greenwich&amp;quot;,0.0],UNIT[&amp;quot;Degree&amp;quot;,0.0174532925199433]],PROJECTION[&amp;quot;Transverse_Mercator&amp;quot;],PARAMETER[&amp;quot;False_Easting&amp;quot;,328083.3333333333],PARAMETER[&amp;quot;False_Northing&amp;quot;,820208.3333333333],PARAMETER[&amp;quot;Central_Meridian&amp;quot;,-85.66666666666667],PARAMETER[&amp;quot;Scale_Factor&amp;quot;,0.9999666666666667],PARAMETER[&amp;quot;Latitude_Of_Origin&amp;quot;,37.5],UNIT[&amp;quot;Foot_US&amp;quot;,0.3048006096012192],AUTHORITY[&amp;quot;EPSG&amp;quot;,2965]]&lt;/WKT&gt;&lt;XOrigin&gt;-18119800&lt;/XOrigin&gt;&lt;YOrigin&gt;-45615400&lt;/YOrigin&gt;&lt;XYScale&gt;137246076.82899535&lt;/XYScale&gt;&lt;ZOrigin&gt;-100000&lt;/ZOrigin&gt;&lt;ZScale&gt;10000&lt;/ZScale&gt;&lt;MOrigin&gt;-100000&lt;/MOrigin&gt;&lt;MScale&gt;10000&lt;/MScale&gt;&lt;XYTolerance&gt;0.0032808333333333331&lt;/XYTolerance&gt;&lt;ZTolerance&gt;0.001&lt;/ZTolerance&gt;&lt;MTolerance&gt;0.001&lt;/MTolerance&gt;&lt;HighPrecision&gt;true&lt;/HighPrecision&gt;&lt;WKID&gt;2244&lt;/WKID&gt;&lt;LatestWKID&gt;2965&lt;/LatestWKID&gt;&lt;/ProjectedCoordinateSystem&gt;</peXml>
</coordRef>
<RasterProperties>
<General>
<PixelDepth Sync="TRUE">8</PixelDepth>
<HasColormap Sync="TRUE">FALSE</HasColormap>
<CompressionType Sync="TRUE">None</CompressionType>
<NumBands Sync="TRUE">1</NumBands>
<Format Sync="TRUE">AMD</Format>
<HasPyramids Sync="TRUE">TRUE</HasPyramids>
<SourceType Sync="TRUE">continuous</SourceType>
<PixelType Sync="TRUE">unsigned integer</PixelType>
<NoDataValue Sync="TRUE"/>
</General>
<Properties>
<MaxImageHeight Sync="TRUE">4100</MaxImageHeight>
<MaxImageWidth Sync="TRUE">15000</MaxImageWidth>
<MaxRecordCount Sync="TRUE">1000</MaxRecordCount>
<MaxDownloadImageCount Sync="TRUE">20</MaxDownloadImageCount>
<MaxDownloadSizeLimit Sync="TRUE">2048</MaxDownloadSizeLimit>
<MaxMosaicImageCount Sync="TRUE">20</MaxMosaicImageCount>
<DefaultCompressionQuality Sync="TRUE">75</DefaultCompressionQuality>
<DefaultCompressionTolerance Sync="TRUE">0.01</DefaultCompressionTolerance>
<BlendWidth Sync="TRUE">10</BlendWidth>
<ViewpointSpacingX Sync="TRUE">600</ViewpointSpacingX>
<ViewpointSpacingY Sync="TRUE">300</ViewpointSpacingY>
<AllowedItemMetadata Sync="TRUE">Basic</AllowedItemMetadata>
<DefaultResamplingMethod Sync="TRUE">1</DefaultResamplingMethod>
<AllowedMosaicMethods Sync="TRUE">NorthWest,Center,LockRaster,ByAttribute,Nadir,Viewpoint,Seamline,None</AllowedMosaicMethods>
<AllowedCompressions Sync="TRUE">None,JPEG,LZ77,LERC</AllowedCompressions>
<AllowedMensurationCapabilities Sync="TRUE">Basic</AllowedMensurationCapabilities>
<AvailableMensurationCapabilities Sync="TRUE">None,Basic,Base-Top Height,Top-Top Shadow Height,Base-Top Shadow Height,3D</AvailableMensurationCapabilities>
<ClipToBoundary Sync="TRUE">-1</ClipToBoundary>
<FootprintMayContainNoData Sync="TRUE">-1</FootprintMayContainNoData>
<CellSizeTolerance Sync="TRUE">0.8</CellSizeTolerance>
<AvailableMosaicMethods Sync="TRUE">NorthWest,Center,LockRaster,ByAttribute,Nadir,Viewpoint,Seamline,None</AvailableMosaicMethods>
<AvailableCompressionMethods Sync="TRUE">None,JPEG,LZ77,LERC</AvailableCompressionMethods>
<AvailableItemMetadataLevels Sync="TRUE">None,Basic,Full</AvailableItemMetadataLevels>
<ConfigKeyword Sync="TRUE"/>
<BandDefinitionKeyword Sync="TRUE">NONE</BandDefinitionKeyword>
<AllowedFields Sync="TRUE">Name,MinPS,MaxPS,LowPS,HighPS,Tag,GroupName,ProductName,CenterX,CenterY,ZOrder,Shape_Length,Shape_Area</AllowedFields>
<MaxCellSize Sync="TRUE">36450</MaxCellSize>
<LowCellSize Sync="TRUE">0.5</LowCellSize>
<HighCellSize Sync="TRUE">729</HighCellSize>
</Properties>
<Functions Sync="TRUE">
<Function Description="Performs on-the-fly mosaic on a raster catalog." Name="Mosaic Function"/>
</Functions>
</RasterProperties>
</DataProperties>
<scaleRange>
<minScale>500000</minScale>
<maxScale>5000</maxScale>
</scaleRange>
<SyncDate>20180802</SyncDate>
<SyncTime>11351200</SyncTime>
<ModDate>20180802</ModDate>
<ModTime>11351200</ModTime>
</Esri>
<mdLang>
<languageCode value="eng"/>
<countryCode Sync="TRUE" value="USA"/>
</mdLang>
<dataIdInfo>
<dataLang>
<languageCode country="USA" value="eng"/>
<countryCode Sync="TRUE" value="USA"/>
</dataLang>
<idCitation>
<presForm>
<PresFormCd value="005"/>
</presForm>
<resTitle Sync="TRUE">Hamilton_2001</resTitle>
</idCitation>
<spatRpType>
<SpatRepTypCd value="002"/>
</spatRpType>
<idPurp>2001 Gray Scale Orthophotography of Hamilton County Indiana</idPurp>
<idAbs>&lt;div style=''&gt;&lt;div&gt;&lt;div&gt;&lt;p style=''&gt;&lt;span&gt;The orthophotography of Hamilton County Indiana is based on panchromatic aerial photography acquired on April 4, 2003 by Woolpert, Inc. with a film camera. The pixel resolution is 6-inch and the horizontal accuracy is +/- 2.5 feet at a 95% confidence level.&lt;/span&gt;&lt;/p&gt;&lt;p&gt;&lt;span /&gt;&lt;/p&gt;&lt;/div&gt;&lt;/div&gt;&lt;/div&gt;</idAbs>
<searchKeys>
<keyword>Hamilton County</keyword>
<keyword>Indiana</keyword>
<keyword>Orthos</keyword>
<keyword>Orthophotography</keyword>
<keyword>Aerial Photography</keyword>
<keyword>2001</keyword>
<keyword>Woolpert</keyword>
</searchKeys>
<idCredit>This project was funded by Hamilton County. The aerial photography and orthophotography was acquired and produced by Woolpert, Inc. Hamilton County reviewed the orthophotography for aesthetics and accuracy (compared to previous orthophotography).</idCredit>
<envirDesc Sync="TRUE"> Version 6.2 (Build 9200) ; Esri ArcGIS 10.5.1.7333</envirDesc>
<dataExt>
<geoEle>
<GeoBndBox esriExtentType="search">
<exTypeCode Sync="TRUE">1</exTypeCode>
<westBL Sync="TRUE">-86.250691</westBL>
<eastBL Sync="TRUE">-85.855932</eastBL>
<northBL Sync="TRUE">40.224403</northBL>
<southBL Sync="TRUE">39.921134</southBL>
</GeoBndBox>
</geoEle>
</dataExt>
<resConst>
<Consts>
<useLimit/>
</Consts>
</resConst>
</dataIdInfo>
<spatRepInfo>
<Georect>
<axisDimension type="002">
<dimSize Sync="TRUE">220000</dimSize>
<dimResol>
<value Sync="TRUE" uom="ftUS">0.500000</value>
</dimResol>
</axisDimension>
<axisDimension type="001">
<dimSize Sync="TRUE">220000</dimSize>
<dimResol>
<value Sync="TRUE" uom="ftUS">0.500000</value>
</dimResol>
</axisDimension>
<cellGeo>
<CellGeoCd Sync="TRUE" value="002"/>
</cellGeo>
<numDims Sync="TRUE">2</numDims>
<tranParaAv Sync="TRUE">1</tranParaAv>
<chkPtAv Sync="TRUE">0</chkPtAv>
<cornerPts>
<pos Sync="TRUE">165000.000000 1702500.000000</pos>
</cornerPts>
<cornerPts>
<pos Sync="TRUE">165000.000000 1812500.000000</pos>
</cornerPts>
<cornerPts>
<pos Sync="TRUE">275000.000000 1812500.000000</pos>
</cornerPts>
<cornerPts>
<pos Sync="TRUE">275000.000000 1702500.000000</pos>
</cornerPts>
<centerPt>
<pos Sync="TRUE">220000.000000 1757500.000000</pos>
</centerPt>
<ptInPixel>
<PixOrientCd Sync="TRUE" value="001"/>
</ptInPixel>
</Georect>
</spatRepInfo>
<refSysInfo>
<RefSystem>
<refSysID>
<identCode code="2965"/>
<idCodeSpace Sync="TRUE">EPSG</idCodeSpace>
<idVersion Sync="TRUE">6.3(9.0.0)</idVersion>
</refSysID>
</RefSystem>
</refSysInfo>
<contInfo>
<ImgDesc>
<covDim>
<Band>
<valUnit>
<UOM type="length"/>
</valUnit>
<dimDescrp Sync="TRUE">Band_1</dimDescrp>
<bitsPerVal Sync="TRUE">8</bitsPerVal>
<maxVal Sync="TRUE">255.000000</maxVal>
<minVal Sync="TRUE">0.000000</minVal>
</Band>
</covDim>
<contentTyp>
<ContentTypCd Sync="TRUE" value="001"/>
</contentTyp>
</ImgDesc>
</contInfo>
<mdDateSt Sync="TRUE">20180802</mdDateSt>
</metadata>
