{
 "currentVersion": 11.2,
 "serviceDescription": "The dataset consists of tiled orthogonal imagery produced from nadir images captured by Pictometry International. Automatic aerial triangulation (AAT) was performed. The triangulated frames were rectified to a LiDAR derived DEM. Mosaicking was performed using an automatic seaming algorithm and manually edited to eliminate seams through elevated features where possible.\n\nThe following tiles were affected by flooding and reflown:\n242088E1774344N (reflown April 23, 2021 and April 26, 2021)\n242088E1769064N (reflown April 26, 2021 and April 27, 2021)\n244728E1769064N (reflown April 26, 2021 and April 27, 2021)\n242088E1766424N (reflown April 26, 2021 and April 27, 2021)\n244728E1766424N (reflown April 26, 2021 and April 27, 2021)\n242088E1763784N (reflown April 26, 2021 and April 27, 2021)",
 "name": "ImageServices/Hamilton_2021",
 "description": "The dataset consists of tiled orthogonal imagery produced from nadir images captured by Pictometry International. Automatic aerial triangulation (AAT) was performed. The triangulated frames were rectified to a LiDAR derived DEM. Mosaicking was performed using an automatic seaming algorithm and manually edited to eliminate seams through elevated features where possible.\n\nThe following tiles were affected by flooding and reflown:\n242088E1774344N (reflown April 23, 2021 and April 26, 2021)\n242088E1769064N (reflown April 26, 2021 and April 27, 2021)\n244728E1769064N (reflown April 26, 2021 and April 27, 2021)\n242088E1766424N (reflown April 26, 2021 and April 27, 2021)\n244728E1766424N (reflown April 26, 2021 and April 27, 2021)\n242088E1763784N (reflown April 26, 2021 and April 27, 2021)",
 "extent": {
  "xmin": 165528,
  "ymin": 1703750,
  "xmax": 273750,
  "ymax": 1811250,
  "spatialReference": {
   "wkid": 2244,
   "latestWkid": 2965
  }
 },
 "initialExtent": {
  "xmin": 165528,
  "ymin": 1703750,
  "xmax": 273750,
  "ymax": 1811250,
  "spatialReference": {
   "wkid": 2244,
   "latestWkid": 2965
  }
 },
 "fullExtent": {
  "xmin": 165528,
  "ymin": 1703750,
  "xmax": 273750,
  "ymax": 1811250,
  "spatialReference": {
   "wkid": 2244,
   "latestWkid": 2965
  }
 },
 "sortableFields": "MinPS,MaxPS,LowPS,HighPS,CenterX,CenterY,ZOrder,Shape_Length,Shape_Area",
 "bandCount": 3,
 "pixelType": "U8",
 "minValues": [
  0,
  1,
  4
 ],
 "maxValues": [
  255,
  255,
  255
 ],
 "meanValues": [
  111.64221999999957,
  111.98839300000209,
  97.14843399999948
 ],
 "stdvValues": [
  34.813911148849705,
  29.140645110476992,
  26.05678161829445
 ],
 "hasMultidimensions": false,
 "pixelSizeX": 0.25,
 "pixelSizeY": 0.25,
 "meanPixelSize": 0.07620015240030481,
 "datasetFormat": "AMD",
 "uncompressedSize": 558425520000,
 "blockWidth": 2048,
 "blockHeight": 256,
 "compressionType": "None",
 "bandNames": [
  "Red",
  "Green",
  "Blue"
 ],
 "allowCopy": true,
 "allowAnalysis": true,
 "itemAccess": false,
 "inspectionCapabilities": "",
 "minPixelSize": 0.26041666666666663,
 "maxPixelSize": 266.66666666666663,
 "copyrightText": "",
 "serviceDataType": "esriImageServiceDataTypeRGB",
 "serviceSourceType": "esriImageServiceSourceTypeMosaicDataset",
 "objectIdField": "OBJECTID",
 "fields": [
  {
   "name": "OBJECTID",
   "type": "esriFieldTypeOID",
   "alias": "OBJECTID",
   "domain": null
  },
  {
   "name": "Shape",
   "type": "esriFieldTypeGeometry",
   "alias": "Shape",
   "domain": null
  },
  {
   "name": "Name",
   "type": "esriFieldTypeString",
   "alias": "Name",
   "domain": null,
   "length": 200
  },
  {
   "name": "MinPS",
   "type": "esriFieldTypeDouble",
   "alias": "MinPS",
   "domain": null
  },
  {
   "name": "MaxPS",
   "type": "esriFieldTypeDouble",
   "alias": "MaxPS",
   "domain": null
  },
  {
   "name": "LowPS",
   "type": "esriFieldTypeDouble",
   "alias": "LowPS",
   "domain": null
  },
  {
   "name": "HighPS",
   "type": "esriFieldTypeDouble",
   "alias": "HighPS",
   "domain": null
  },
  {
   "name": "Category",
   "type": "esriFieldTypeInteger",
   "alias": "Category",
   "domain": {
    "type": "codedValue",
    "name": "MosaicCatalogItemCategoryDomain",
    "description": "Catalog item categories.",
    "codedValues": [
     {
      "name": "Unknown",
      "code": 0
     },
     {
      "name": "Primary",
      "code": 1
     },
     {
      "name": "Overview",
      "code": 2
     },
     {
      "name": "Unprocessed Overview",
      "code": 3
     },
     {
      "name": "Partial Overview",
      "code": 4
     },
     {
      "name": "Inactive",
      "code": 5
     },
     {
      "name": "Uploaded",
      "code": 253
     },
     {
      "name": "Incomplete",
      "code": 254
     },
     {
      "name": "Custom",
      "code": 255
     }
    ],
    "mergePolicy": "esriMPTDefaultValue",
    "splitPolicy": "esriSPTDefaultValue"
   }
  },
  {
   "name": "Tag",
   "type": "esriFieldTypeString",
   "alias": "Tag",
   "domain": null,
   "length": 100
  },
  {
   "name": "GroupName",
   "type": "esriFieldTypeString",
   "alias": "GroupName",
   "domain": null,
   "length": 100
  },
  {
   "name": "ProductName",
   "type": "esriFieldTypeString",
   "alias": "ProductName",
   "domain": null,
   "length": 100
  },
  {
   "name": "CenterX",
   "type": "esriFieldTypeDouble",
   "alias": "CenterX",
   "domain": null
  },
  {
   "name": "CenterY",
   "type": "esriFieldTypeDouble",
   "alias": "CenterY",
   "domain": null
  },
  {
   "name": "ZOrder",
   "type": "esriFieldTypeInteger",
   "alias": "ZOrder",
   "domain": null
  },
  {
   "name": "Shape_Length",
   "type": "esriFieldTypeDouble",
   "alias": "Shape_Length",
   "domain": null
  },
  {
   "name": "Shape_Area",
   "type": "esriFieldTypeDouble",
   "alias": "Shape_Area",
   "domain": null
  }
 ],
 "capabilities": "Catalog,Mensuration,Image,Metadata",
 "defaultMosaicMethod": "Northwest",
 "allowedMosaicMethods": "NorthWest,Center,LockRaster,ByAttribute,Nadir,Viewpoint,Seamline,None",
 "sortField": "",
 "sortValue": null,
 "sortAscending": true,
 "mosaicOperator": "First",
 "maxDownloadSizeLimit": 2048,
 "defaultCompressionQuality": 75,
 "defaultResamplingMethod": "Bilinear",
 "maxImageHeight": 4100,
 "maxImageWidth": 15000,
 "maxRecordCount": 1000,
 "maxDownloadImageCount": 20,
 "maxMosaicImageCount": 50,
 "singleFusedMapCache": true,
 "tileInfo": {
  "rows": 256,
  "cols": 256,
  "dpi": 96,
  "format": "MIXED",
  "compressionQuality": 75,
  "origin": {
   "x": -18119800,
   "y": 20012700
  },
  "spatialReference": {
   "wkid": 2244,
   "latestWkid": 2965
  },
  "lods": [
   {
    "level": 0,
    "resolution": 266.66666666666663,
    "scale": 307200
   },
   {
    "level": 1,
    "resolution": 133.33333333333331,
    "scale": 153600
   },
   {
    "level": 2,
    "resolution": 66.66666666666666,
    "scale": 76800
   },
   {
    "level": 3,
    "resolution": 33.33333333333333,
    "scale": 38400
   },
   {
    "level": 4,
    "resolution": 16.666666666666664,
    "scale": 19200
   },
   {
    "level": 5,
    "resolution": 8.333333333333332,
    "scale": 9600
   },
   {
    "level": 6,
    "resolution": 4.166666666666666,
    "scale": 4800
   },
   {
    "level": 7,
    "resolution": 2.083333333333333,
    "scale": 2400
   },
   {
    "level": 8,
    "resolution": 1.0416666666666665,
    "scale": 1200
   },
   {
    "level": 9,
    "resolution": 0.5208333333333333,
    "scale": 600
   },
   {
    "level": 10,
    "resolution": 0.26041666666666663,
    "scale": 300
   }
  ]
 },
 "storageInfo": {
  "storageFormat": "esriMapCacheStorageModeCompactV2",
  "packetSize": 128
 },
 "cacheType": "Map",
 "allowRasterFunction": true,
 "rasterFunctionInfos": [
  {
   "name": "None",
   "description": "Make a Raster or Raster Dataset into a Function Raster Dataset.",
   "help": ""
  }
 ],
 "rasterTypeInfos": [
  {
   "name": "Raster Dataset",
   "description": "Supports all ArcGIS Raster Datasets",
   "help": ""
  }
 ],
 "mensurationCapabilities": "NONE",
 "hasHistograms": true,
 "hasColormap": false,
 "hasRasterAttributeTable": false,
 "minScale": 307200,
 "maxScale": 300,
 "exportTilesAllowed": false,
 "supportsStatistics": true,
 "supportsAdvancedQueries": true,
 "editFieldsInfo": null,
 "ownershipBasedAccessControlForRasters": null,
 "allowComputeTiePoints": false,
 "useStandardizedQueries": true,
 "advancedQueryCapabilities": {
  "useStandardizedQueries": true,
  "supportsStatistics": true,
  "supportsOrderBy": true,
  "supportsDistinct": true,
  "supportsPagination": true
 },
 "spatialReference": {
  "wkid": 2244,
  "latestWkid": 2965
 },
 "resampling": true
}
