{ "currentVersion": 11.2, "serviceDescription": "

This data set contains imagery from the National Agriculture Imagery Program (NAIP). NAIP acquires digital ortho imagery during the agricultural growing seasons in the continental U.S.. A primary goal of the NAIP program is to enable vailability of ortho imagery within one year of acquisition. This product is 1 meter ground sample distance (GSD) ortho imagery rectified to a horizontal accuracy of within +/- 5 meters of reference digital ortho quarter quads (DOQQ's) from the National Digital Ortho Program (NDOP). The tiling format of NAIP imagery is based on a 3.75' x 3.75' quarter quadrangle with a 300 meter buffer on all four sides. NAIP quarter quads are formatted to the UTM coordinate system using NAD83. NAIP imagery may contain as much as 10% cloud cover per tile.<\/span><\/p><\/div><\/div>", "name": "ImageServices/Hamilton_2010", "description": "

This data set contains imagery from the National Agriculture Imagery Program (NAIP). NAIP acquires digital ortho imagery during the agricultural growing seasons in the continental U.S.. A primary goal of the NAIP program is to enable vailability of ortho imagery within one year of acquisition. This product is 1 meter ground sample distance (GSD) ortho imagery rectified to a horizontal accuracy of within +/- 5 meters of reference digital ortho quarter quads (DOQQ's) from the National Digital Ortho Program (NDOP). The tiling format of NAIP imagery is based on a 3.75' x 3.75' quarter quadrangle with a 300 meter buffer on all four sides. NAIP quarter quads are formatted to the UTM coordinate system using NAD83. NAIP imagery may contain as much as 10% cloud cover per tile.<\/span><\/p><\/div><\/div>", "extent": { "xmin": 163170.45629566163, "ymin": 1683968.7268607358, "xmax": 288685.29712899495, "ymax": 1823456.6368607357, "spatialReference": { "wkid": 2244, "latestWkid": 2965 } }, "initialExtent": { "xmin": 163170.45629566163, "ymin": 1683968.7268607358, "xmax": 288685.29712899495, "ymax": 1823456.6368607357, "spatialReference": { "wkid": 2244, "latestWkid": 2965 } }, "fullExtent": { "xmin": 163170.45629566163, "ymin": 1683968.7268607358, "xmax": 288685.29712899495, "ymax": 1823456.6368607357, "spatialReference": { "wkid": 2244, "latestWkid": 2965 } }, "sortableFields": "", "bandCount": 3, "pixelType": "U8", "minValues": [ 16, 35, 26 ], "maxValues": [ 255, 255, 255 ], "meanValues": [ 106.17725225625216, 125.20213344978056, 124.7617445773164 ], "stdvValues": [ 31.915286591500866, 24.374676144250557, 20.487743738248202 ], "hasMultidimensions": false, "pixelSizeX": 3.280833333333333, "pixelSizeY": 3.2808333333333315, "meanPixelSize": 0.9999999999999997, "datasetFormat": "AMD", "uncompressedSize": 4879603836, "blockWidth": 2048, "blockHeight": 256, "compressionType": "None", "bandNames": [ "Band_1", "Band_2", "Band_3" ], "allowCopy": true, "allowAnalysis": true, "itemAccess": false, "inspectionCapabilities": "", "minPixelSize": 0, "maxPixelSize": 0, "copyrightText": "USDA-FSA-APFO Aerial Photography Field Office", "serviceDataType": "esriImageServiceDataTypeRGB", "serviceSourceType": "esriImageServiceSourceTypeMosaicDataset", "objectIdField": "OBJECTID", "fields": [ { "name": "OBJECTID", "type": "esriFieldTypeOID", "alias": "OBJECTID", "domain": null }, { "name": "Shape", "type": "esriFieldTypeGeometry", "alias": "Shape", "domain": null }, { "name": "Name", "type": "esriFieldTypeString", "alias": "Name", "domain": null, "length": 50 }, { "name": "MinPS", "type": "esriFieldTypeDouble", "alias": "MinPS", "domain": null }, { "name": "MaxPS", "type": "esriFieldTypeDouble", "alias": "MaxPS", "domain": null }, { "name": "LowPS", "type": "esriFieldTypeDouble", "alias": "LowPS", "domain": null }, { "name": "HighPS", "type": "esriFieldTypeDouble", "alias": "HighPS", "domain": null }, { "name": "Category", "type": "esriFieldTypeInteger", "alias": "Category", "domain": { "type": "codedValue", "name": "MosaicCatalogItemCategoryDomain", "description": "Catalog item categories.", "codedValues": [ { "name": "Unknown", "code": 0 }, { "name": "Primary", "code": 1 }, { "name": "Overview", "code": 2 }, { "name": "Unprocessed Overview", "code": 3 }, { "name": "Partial Overview", "code": 4 }, { "name": "Inactive", "code": 5 }, { "name": "Uploaded", "code": 253 }, { "name": "Incomplete", "code": 254 }, { "name": "Custom", "code": 255 } ], "mergePolicy": "esriMPTDefaultValue", "splitPolicy": "esriSPTDefaultValue" } }, { "name": "Tag", "type": "esriFieldTypeString", "alias": "Tag", "domain": null, "length": 20 }, { "name": "GroupName", "type": "esriFieldTypeString", "alias": "GroupName", "domain": null, "length": 50 }, { "name": "ProductName", "type": "esriFieldTypeString", "alias": "ProductName", "domain": null, "length": 50 }, { "name": "CenterX", "type": "esriFieldTypeDouble", "alias": "CenterX", "domain": null }, { "name": "CenterY", "type": "esriFieldTypeDouble", "alias": "CenterY", "domain": null }, { "name": "ZOrder", "type": "esriFieldTypeInteger", "alias": "ZOrder", "domain": null }, { "name": "Shape_Length", "type": "esriFieldTypeDouble", "alias": "Shape_Length", "domain": null }, { "name": "Shape_Area", "type": "esriFieldTypeDouble", "alias": "Shape_Area", "domain": null } ], "capabilities": "Catalog,Mensuration,Image,Metadata", "defaultMosaicMethod": "Northwest", "allowedMosaicMethods": "NorthWest,Center,LockRaster,ByAttribute,Nadir,Viewpoint,Seamline,None", "sortField": "", "sortValue": null, "sortAscending": true, "mosaicOperator": "First", "maxDownloadSizeLimit": 2048, "defaultCompressionQuality": 75, "defaultResamplingMethod": "Bilinear", "maxImageHeight": 4100, "maxImageWidth": 15000, "maxRecordCount": 1000, "maxDownloadImageCount": 20, "maxMosaicImageCount": 20, "singleFusedMapCache": true, "tileInfo": { "rows": 256, "cols": 256, "dpi": 96, "format": "JPEG", "compressionQuality": 55, "origin": { "x": -18119800, "y": 20012700 }, "spatialReference": { "wkid": 2244, "latestWkid": 2965 }, "lods": [ { "level": 0, "resolution": 266.66666666666663, "scale": 307200 }, { "level": 1, "resolution": 133.33333333333331, "scale": 153600 }, { "level": 2, "resolution": 66.66666666666666, "scale": 76800 }, { "level": 3, "resolution": 33.33333333333333, "scale": 38400 }, { "level": 4, "resolution": 16.666666666666664, "scale": 19200 }, { "level": 5, "resolution": 8.333333333333332, "scale": 9600 }, { "level": 6, "resolution": 4.166666666666666, "scale": 4800 }, { "level": 7, "resolution": 2.083333333333333, "scale": 2400 }, { "level": 8, "resolution": 1.0416666666666665, "scale": 1200 }, { "level": 9, "resolution": 0.5208333333333333, "scale": 600 }, { "level": 10, "resolution": 0.26041666666666663, "scale": 300 } ] }, "storageInfo": { "storageFormat": "esriMapCacheStorageModeCompactV2", "packetSize": 128 }, "cacheType": "Map", "allowRasterFunction": true, "rasterFunctionInfos": [ { "name": "None", "description": "", "help": "" } ], "rasterTypeInfos": [ { "name": "Raster Dataset", "description": "Supports all ArcGIS Raster Datasets", "help": "" } ], "mensurationCapabilities": "Basic", "hasHistograms": true, "hasColormap": false, "hasRasterAttributeTable": false, "minScale": 0, "maxScale": 0, "exportTilesAllowed": false, "supportsStatistics": true, "supportsAdvancedQueries": true, "editFieldsInfo": null, "ownershipBasedAccessControlForRasters": null, "allowComputeTiePoints": false, "useStandardizedQueries": true, "advancedQueryCapabilities": { "useStandardizedQueries": true, "supportsStatistics": true, "supportsOrderBy": true, "supportsDistinct": true, "supportsPagination": true }, "spatialReference": { "wkid": 2244, "latestWkid": 2965 } }